Workbook

Sheet PROJECT SUMMARY
A3: PROJECT COST SUMMARY | E3: EXCLUDING LOWER LEVEL FINISH
A5: PROJECT | C5: CROCKETT | L5: LOWER LEVEL | M5: 0
A6: PM | C6: Grady | L6: MAIN LEVEL | M6: 2960
A7: LOCATION | C7: 1702 S 150th Ave.; Omaha, NE 68144 | L7: UPPER LEVEL | M7: 1661
A8: DATE | C8: 46254 | L8: TOTAL FINISHED SF | M8: =SUM(M5:M7) -> 4621
A9: LOT # | C9: 22 Heartwood Estates | L9: GARAGE | M9: 1121
A10: ZONING | L10: LOWER UNFINISHED | M10: 2784
L11: UPPER UNFINISHED | M11: 577
L12: COVERED PATIO | M12: 624
L13: TOTAL SF UNDER ROOF | M13: =SUM(M8:M12) -> 9727
A15: PHASE | C15: DESCRIPTION | E15: ALLOW. | F15: LABOR | G15: MATERIAL | H15: OTHER | I15: SUBCONT. | K15: DIVISION | L15: FINISHED COST/SF | M15: UNDER ROOF
A16: 1 | C16: GENERAL REQUIREMENTS | I16: TOTAL | K16: =SUM(K17:K33) -> 192211.66 | L16: =IFERROR(K16/M$8,"$0") -> 41.595252 | M16: =IFERROR(K16/M$13,"$0") -> 19.760631
A17: 01.120 | C17: Superintendent | E17: 0 | F17: ='DIV 1 GC'!J6 -> 89775 | G17: 0 | H17: 0 | I17: 0 | K17: =SUM(E17:I17) -> 89775 | L17: =IFERROR(K17/M$8,"$0") -> 19.427613 | M17: =IFERROR(K17/M$13,"$0") -> 9.2294644
A18: 01.170 | C18: Travel/Pickup/Deliveries | E18: 0 | F18: 2500 | G18: 0 | H18: 0 | I18: 0 | K18: =SUM(E18:I18) -> 2500 | L18: =IFERROR(K18/M$8,"$0") -> 0.54100844 | M18: =IFERROR(K18/M$13,"$0") -> 0.25701655
A19: 01.205 | C19: MUD Fees | E19: 0 | F19: 0 | G19: 0 | H19: ='DIV 1 GC'!G16 -> 4687 | I19: 0 | K19: =SUM(E19:I19) -> 4687 | L19: =IFERROR(K19/M$8,"$0") -> 1.0142826 | M19: =IFERROR(K19/M$13,"$0") -> 0.48185463
A20: 01.214 | C20: Bldg. Permit | E20: 0 | F20: 0 | G20: 0 | H20: 14170.46 | I20: 0 | K20: =SUM(E20:I20) -> 14170.46 | L20: =IFERROR(K20/M$8,"$0") -> 3.0665354 | M20: =IFERROR(K20/M$13,"$0") -> 1.4568171
A21: 01.230 | C21: Builders Risk | E21: 0 | F21: 0 | G21: 0 | H21: ='DIV 1 GC'!J60 -> 4608 | I21: 0 | K21: =SUM(E21:I21) -> 4608 | L21: =IFERROR(K21/M$8,"$0") -> 0.99718676 | M21: =IFERROR(K21/M$13,"$0") -> 0.47373291
A22: 01.235 | C22: General Liability | E22: 0 | F22: 0 | G22: 0 | H22: ='DIV 1 GC'!J69 -> 8864 | I22: 0 | K22: =SUM(E22:I22) -> 8864 | L22: =IFERROR(K22/M$8,"$0") -> 1.9181995 | M22: =IFERROR(K22/M$13,"$0") -> 0.91127789
A23: 01.452 | C23: Testing/Inspections | E23: 0 | F23: 0 | G23: 0 | H23: 0 | I23: 0 | K23: =SUM(E23:I23) -> 0 | L23: =IFERROR(K23/M$8,"$0") -> 0 | M23: =IFERROR(K23/M$13,"$0") -> 0
A24: 01.454 | C24: Mockups | E24: 1500 | F24: 0 | G24: 0 | H24: 0 | I24: 0 | K24: =SUM(E24:I24) -> 1500 | L24: =IFERROR(K24/M$8,"$0") -> 0.32460506 | M24: =IFERROR(K24/M$13,"$0") -> 0.15420993
A25: 01.501 | C25: Temporary Utilities | E25: 0 | F25: 0 | G25: 0 | H25: ='DIV 1 GC'!J89 -> 7597.2 | I25: 0 | K25: =SUM(E25:I25) -> 7597.2 | L25: =IFERROR(K25/M$8,"$0") -> 1.6440597 | M25: =IFERROR(K25/M$13,"$0") -> 0.78104246
A26: 01.538 | C26: Technology / prints | E26: 0 | F26: 0 | G26: 0 | H26: 1500 | I26: 0 | K26: =SUM(E26:I26) -> 1500 | L26: =IFERROR(K26/M$8,"$0") -> 0.32460506 | M26: =IFERROR(K26/M$13,"$0") -> 0.15420993
A27: 01.540 | C27: Equipment (Forklift/Skid Loader) | E27: 0 | F27: 0 | G27: 0 | H27: 2250 | I27: 0 | K27: =SUM(E27:I27) -> 2250 | L27: =IFERROR(K27/M$8,"$0") -> 0.4869076 | M27: =IFERROR(K27/M$13,"$0") -> 0.2313149
A28: 01.560 | C28: Temporary Barriers/Enclosures/Protection | E28: 0 | F28: 2400 | G28: 1100 | H28: 0 | I28: 0 | K28: =SUM(E28:I28) -> 3500 | L28: =IFERROR(K28/M$8,"$0") -> 0.75741182 | M28: =IFERROR(K28/M$13,"$0") -> 0.35982317
A29: 01.578 | C29: Site Maintenance (Snow Removal/Mowing) | E29: 0 | F29: 1250 | G29: 150 | H29: 0 | I29: 0 | K29: =SUM(E29:I29) -> 1400 | L29: =IFERROR(K29/M$8,"$0") -> 0.30296473 | M29: =IFERROR(K29/M$13,"$0") -> 0.14392927
A30: 01.740 | C30: Cleaning & Waste Management (Dumpsters) | E30: 0 | F30: ='DIV 1 GC'!J132+'DIV 1 GC'!J133 -> 12485 | G30: 0 | H30: ='DIV 1 GC'!J139 -> 7400 | I30: ='DIV 1 GC'!J135+'DIV 1 GC'!J136+'DIV 1 GC'!J137 -> 6725 | K30: =SUM(E30:I30) -> 26610 | L30: =IFERROR(K30/M$8,"$0") -> 5.7584938 | M30: =IFERROR(K30/M$13,"$0") -> 2.7356842
A31: 01.810 | C31: Warranties | E31: 0 | F31: 0 | G31: 0 | H31: ='DIV 1 GC'!J144 -> 18000 | I31: 0 | K31: =SUM(E31:I31) -> 18000 | L31: =IFERROR(K31/M$8,"$0") -> 3.8952608 | M31: =IFERROR(K31/M$13,"$0") -> 1.8505192
A32: 01.830 | C32: Small Tools/Supply/Rentals | E32: 0 | F32: 0 | G32: 0 | H32: 2250 | I32: 0 | K32: =SUM(E32:I32) -> 2250 | L32: =IFERROR(K32/M$8,"$0") -> 0.4869076 | M32: =IFERROR(K32/M$13,"$0") -> 0.2313149
A33: 01.840 | C33: Punchlist | E33: 0 | F33: 3000 | G33: 0 | H33: 0 | I33: 0 | K33: =SUM(E33:I33) -> 3000 | L33: =IFERROR(K33/M$8,"$0") -> 0.64921013 | M33: =IFERROR(K33/M$13,"$0") -> 0.30841986
A34: 2 | C34: EXISTING CONDITIONS | I34: TOTAL | K34: =SUM(K35) -> 0 | L34: =IFERROR(K34/M$8,"$0") -> 0 | M34: =IFERROR(K34/M$13,"$0") -> 0
A35: 02.010 | C35: Demolition | E35: 0 | F35: 0 | G35: 0 | H35: 0 | I35: 0 | K35: =SUM(E35:I35) -> 0 | L35: =IFERROR(K35/M$8,"$0") -> 0 | M35: =IFERROR(K35/M$13,"$0") -> 0
A36: 3 | C36: CONCRETE | I36: TOTAL | K36: =SUM(K37:K38) -> 111245 | L36: =IFERROR(K36/M$8,"$0") -> 24.073794 | M36: =IFERROR(K36/M$13,"$0") -> 11.436723
A37: 03.300 | C37: Footings / Foundations | E37: 0 | F37: 0 | G37: 0 | H37: 0 | I37: 80749 | K37: =SUM(E37:I37) -> 80749 | L37: =IFERROR(K37/M$8,"$0") -> 17.474356 | M37: =IFERROR(K37/M$13,"$0") -> 8.3015318
A38: 03.320 | C38: Interior Concrete Flatwork | E38: 0 | F38: 0 | G38: 0 | H38: 1700 | I38: 28796 | K38: =SUM(E38:I38) -> 30496 | L38: =IFERROR(K38/M$8,"$0") -> 6.5994374 | M38: =IFERROR(K38/M$13,"$0") -> 3.1351907
A39: 4 | C39: MASONRY | I39: TOTAL | K39: =SUM(K40:K42) -> 116214 | L39: =IFERROR(K39/M$8,"$0") -> 25.149102 | M39: =IFERROR(K39/M$13,"$0") -> 11.947569
A40: 04.210 | C40: Brick Masonry / Precast Sills & Caps | E40: 0 | F40: 0 | G40: 0 | H40: 0 | I40: 0 | K40: =SUM(E40:I40) -> 0 | L40: =IFERROR(K40/M$8,"$0") -> 0 | M40: =IFERROR(K40/M$13,"$0") -> 0
A41: 04.220 | C41: Concrete Unit Masonry (Blockwork) | E41: 0 | F41: 0 | G41: 1150 | H41: 0 | I41: 1550 | K41: =SUM(E41:I41) -> 2700 | L41: =IFERROR(K41/M$8,"$0") -> 0.58428911 | M41: =IFERROR(K41/M$13,"$0") -> 0.27757788
A42: 04.430 | C42: Stone Masonry / Precast Sills & Caps | E42: 0 | F42: 0 | G42: 14691 | H42: 0 | I42: 98823 | K42: =SUM(E42:I42) -> 113514 | L42: =IFERROR(K42/M$8,"$0") -> 24.564813 | M42: =IFERROR(K42/M$13,"$0") -> 11.669991
A43: 5 | C43: METAL | I43: TOTAL | K43: =SUM(K44:K47) -> 18000 | L43: =IFERROR(K43/M$8,"$0") -> 3.8952608 | M43: =IFERROR(K43/M$13,"$0") -> 1.8505192
A44: 05.120 | C44: Structural Steel Material | E44: 0 | F44: 0 | G44: 15500 | H44: 0 | I44: 0 | K44: =SUM(E44:I44) -> 15500 | L44: =IFERROR(K44/M$8,"$0") -> 3.3542523 | M44: =IFERROR(K44/M$13,"$0") -> 1.5935026
...

Sheet DIV 1 GC
A1: 01.000 | B1: GENERAL CONDITIONS
A3: 1.12 | B3: Superintendent
D5: PROJECT DURATION - MONTHS | E5: APPROX. HOURS/DAY | F5: HOURS/WEEK | G5: RATE/HOUR | H5: COST/WEEK | I5: PROJECT DURATION - WEEKS | J5: TOTAL
C6: minimal supervision at start 3 wks | D6: 0 | E6: 0 | F6: 15 | G6: 90 | H6: =G6*F6 -> 1350 | I6: 66.5 | J6: =I6*H6 -> 89775
A8: 1.17 | B8: Travel/Pickup/Deliveries
B10: Rates updated March 2026 | I10: TOTAL | J10: =SUM(J12:J12) -> 2700
F11: HOURS/WEEK | G11: RATE/HOUR | H11: COST/WEEK | I11: PROJECT DURATION - WEEKS | J11: TOTAL
E12: Labor | F12: 0.75 | G12: 60 | H12: =G12*F12 -> 45 | I12: 60 | J12: =I12*H12 -> 2700
A14: 1.205 | B14: MUD Fees
B16: Rates updated March 2026 (based on Schachne) | F16: TOTAL | G16: =SUM(G18:G20) -> 4687
B18: 1" Capital Facilities Charge (Impact Fee) | E18: 1 | F18: 3520 | G18: =F18*E18 -> 3520
B19: 1" Meter Install | E19: 1 | F19: 459 | G19: =F19*E19 -> 459
B20: Water Tap | E20: 1 | F20: =629+79 -> 708 | G20: =F20*E20 -> 708
A22: 1.214 | B22: Bldg. Permit
B24: Rates updated March 2026 | I24: TOTAL | J24: 0
B26: City of Omaha
B27: https://permits.cityofomaha.org/fees
B28: $1.00-$2,000 | D28: 41 | H28: 0 | I28: 41 | J28: =I28*H28 -> 0
B30: $2,000-$25,000 | D30: $41.00 for first $2,000, plus $9.53 for each additional $1,000 | H30: 0 | I30: 41 | J30: =I30*H30 -> 0
H31: 0 | I31: 9.53 | J31: =I31*H31 -> 0
B33: $25,001-$50,000 | D33: $260.19 for first $25,000, plus $6.44 for each additional $1,000 | H33: 0 | I33: 260.19 | J33: =I33*H33 -> 0
H34: 0 | I34: 6.44 | J34: =I34*H34 -> 0
B36: $50,001-$100,000 | D36: $421.19 for first $50,000, plus $3.19 for each additional $1,000 | H36: 0 | I36: 421.19 | J36: =I36*H36 -> 0
H37: 0 | I37: 3.19 | J37: =I37*H37 -> 0
B39: $100,001-$500,000 | D39: $580.69 for first $100,000, plus $2.78 for each additional $1,000 | H39: 0 | I39: 580.69 | J39: =I39*H39 -> 0
H40: 0 | I40: 2.78 | J40: =I40*H40 -> 0
B42: $500,001-$1,000,000 | D42: $1,692.69 for first $500,000, plus $2.37 for each additional $1,000 | H42: 0 | I42: 1692.69 | J42: =I42*H42 -> 0
H43: 0 | I43: 2.37 | J43: =I43*H43 -> 0
B45: $1,000,001 and up | D45: $2877.69 for first $1,000,000, plus $1.96 for each additional $1,000 | H45: 0 | I45: 1000000 | J45: =I45*H45 -> 0
H46: 0 | I46: 1.96 | J46: =I46*H46 -> 0
B48: City of Blair
B49: https://www.blairne.gov/DocumentCenter/View/52/Building-Permit-and-Zoning-Fees-PDF
B50: Finished SF (not including finished basement) | E50: 0 | F50: * | G50: 102 | H50: =G50*E50 -> 0
B51: Finished Basement SF | E51: 0 | F51: * | G51: 62 | H51: =G51*E51 -> 0
B52: Unfinished Basement SF | E52: 0 | F52: * | G52: 32 | H52: =G52*E52 -> 0
B53: Garage SF | E53: 0 | F53: * | G53: 30 | H53: =G53*E53 -> 0
H54: =SUM(H50:H53) -> 0
G55: Multiply by .006 | H55: 0.006
G56: Total | H56: =H54*H55 -> 0
A58: 1.23 | B58: Builders Risk
...

Sheet DIV 2 EXIST. COND.
A1: 02.000 | B1: EXISTING CONDITIONS
A3: 2.01 | B3: Demolition
E5: Company | F5: Company | G5: Company | H5: Company
A6: Base Bid | E6: 0 | F6: 0 | G6: 0 | H6: 0
A7: 1
A8: 2
A9: 3
A10: 4
A11: 5
A12: 6
A13: 7
A14: 8
A15: 9
A16: 10
D17: TOTAL | E17: =SUM(E6:E16) -> 0 | F17: =SUM(F6:F16) -> 0 | G17: =SUM(G6:G16) -> 0 | H17: =SUM(H6:H16) -> 0

Sheet DIV 3 CONCRETE
A1: 03.000 | B1: CONCRETE
A3: 3.3 | B3: Footings/Foundations
E5: BDB | F5: Midwest Poured Walls | G5: StephenSmith
A6: Base Bid | E6: 79889 | F6: 74895 | G6: 62131 | H6: 0
A7: 1
A8: 2
A9: 3 | B9: sales tax adjustment (5.5 to 7) | G9: =62131*0.015 -> 931.965
A10: 4
A11: 5
A12: 6
A13: 7
A14: 8
A15: 9
A16: 10
D17: TOTAL | E17: =SUM(E6:E16) -> 79889 | F17: =SUM(F6:F16) -> 74895 | G17: =SUM(G6:G16) -> 63062.965 | H17: =SUM(H6:H16) -> 0
A19: 3.32 | B19: Interior Concrete Flatwork
E21: RME | F21: Musicfield | G21: AM Contracting
A22: Base Bid | E22: 0 | F22: 0 | G22: 0 | H22: 0
A23: 1 | B23: basement | E23: 19783 | F23: 23240.25
A24: 2 | B24: garage | E24: 8263 | F24: 9808.75
A25: 3
A26: 4
A27: 5
A28: 6
A29: 7
A30: 8
A31: 9
A32: 10
D33: TOTAL | E33: =SUM(E22:E32) -> 28046 | F33: =SUM(F22:F32) -> 33049 | G33: =SUM(G22:G32) -> 0 | H33: =SUM(H22:H32) -> 0
A35: Unit Rate Estimate - rates updated March of 2026
A36: Lower Level Slab | C36: 2790 | D36: sf
A37: Garage Slab | C37: 1034 | D37: sf
C38: =SUM(C36:C37) -> 3824 | D38: sf
A40: MATERIAL
A41: Poly (LL & GARAGE SLAB SF x 1.15 = sf) | E41: 3824 | F41: 0.075 | G41: SF | H41: =E41*F41 -> 286.8
A42: Lower Level Slab Granular (LL SF x .33ft x 1.25 / 18 = tons) | E42: =(2790*0.33*1.25)/18 -> 63.9375 | F42: 22 | G42: TON | H42: =E42*F42 -> 1406.625
A43: Garage Slab Granular (GARAGE SF x .33ft x 1.25 / 18 = tons) | E43: =(1034*0.33*1.25)/18 -> 23.695833 | F43: 22 | G43: TON | H43: =E43*F43 -> 521.30833
A44: Additive (Xypex for water impermeable) | E44: 0 | F44: 131.85 | G44: BOX | H44: =E44*F44 -> 0
A45: Expansion Joints at Walls | D45: ls | E45: =(181+266)/50 -> 8.94 | F45: 125 | G45: EA | H45: =E45*F45 -> 1117.5
A47: SUBCONTRACTOR
...

Sheet DIV 4 MASONRY
A1: 04.000 | B1: MASONRY
A3: 4.21 | B3: Brick / Precast Sills & Caps
E5: Company | F5: Company | G5: Company | H5: Company
A6: Base Bid | E6: 0 | F6: 0 | G6: 0 | H6: 0
A7: 1
A8: 2
A9: 3
A10: 4
A11: 5
A12: 6
A13: 7
A14: 8
A15: 9
A16: 10
D17: TOTAL | E17: =SUM(E6:E16) -> 0 | F17: =SUM(F6:F16) -> 0 | G17: =SUM(G6:G16) -> 0 | H17: =SUM(H6:H16) -> 0
A19: Unit Rate Estimate - rates updated March of 2026
A20: Brick (Modular) | C20: 0 | D20: SF | E20: 7 | F20: =C20*E20 -> 0 | G20: brick ea
A21: Soldiers/Rowblocks | C21: 0 | D21: LF | E21: 3.5 | F21: =C21*E21 -> 0 | G21: brick ea
A22: Approx. per 292lf | E22: RAW QTY BRICK | F22: =SUM(F20:F21) -> 0 | G22: brick ea
E23: 12% WASTE FACTOR | F23: =F22*0.12 -> 0 | G23: brick ea
E24: TOTAL | F24: =SUM(F22:F23) -> 0 | G24: brick ea
A26: *adjust brick/cube quantity based on brick size | E26: Qty of Full Cubes | F26: 525 | G26: brick/cube
E27: TOTAL | F27: =F24/F26 -> 0 | G27: total cubes
A29: Per Laura at Watkins:
A30: 125 brick/bag of masonry for this product
A31: premix mortar - 35-40 brick/bag on modular / 30-32 brick per bag oversize
A33: MATERIAL
A34: Brick (modular) | E34: 0 | F34: 0.95 | G34: =E34*F34 -> 0
A35: Brick (solids) | E35: 0 | F35: 1.5 | G35: =E35*F35 -> 0
A36: premix mortar (colored) | E36: 0 | F36: 14.45 | G36: =E36*F36 -> 0
A37: premix mortar (standard gray) | E37: 0 | F37: 9.5 | G37: =E37*F37 -> 0
A38: Masonry Cement | C38: 7 bags/M | E38: 0 | F38: 11 | G38: =E38*F38 -> 0
A39: Portland Cement | C39: 1 bag/5 of masonry | E39: 0 | F39: 14 | G39: =E39*F39 -> 0
A40: Sand | C40: 3 to 1 by weight | E40: 0 | F40: 15 | G40: =E40*F40 -> 0
A41: Weep Holes | C41: approx. every 3lf | E41: 0 | F41: 0.65 | G41: =E41*F41 -> 0
A42: Nervastral | C42: 12"x150'/roll | E42: 0 | F42: 90 | G42: =E42*F42 -> 0
A43: SureKlean #600 detergent | C43: 600sf/gallon | E43: 0 | F43: 25 | G43: =E43*F43 -> 0
A44: Ties | C44: .10 ties per brick | E44: 0 | F44: 0.35 | G44: =E44*F44 -> 0
A45: 1" Mortar Net | E45: 0 | F45: 2.4 | G45: =E45*F45 -> 0
A46: Misc. Tools | E46: 0 | F46: 200 | G46: =E46*F46 -> 0
...

Sheet DIV 5 METAL
A1: 05.000 | B1: METAL
A3: 5.12 | B3: Strucutural Steel - Material
E5: Stabdard Iron | F5: Company | G5: Company | H5: Company
A6: Base Bid | E6: 13412.23 | F6: 0 | G6: 0 | H6: 0
A7: 1 | B7: Priming steel | E7: 700
A8: 2 | B8: Delivery | E8: Included
A9: 3
A10: 4
A11: 5
A12: 6
A13: 7
A14: 8
A15: 9
A16: 10
D17: TOTAL | E17: =SUM(E6:E16) -> 14112.23 | F17: =SUM(F6:F16) -> 0 | G17: =SUM(G6:G16) -> 0 | H17: =SUM(H6:H16) -> 0
A19: 5.528 | B19: Metal Interior Railing
E21: Company | F21: Company | G21: Company | H21: Company
A22: Base Bid | E22: 0 | F22: 0 | G22: 0 | H22: 0
A23: 1
A24: 2
A25: 3
A26: 4
A27: 5
A28: 6
A29: 7
A30: 8
A31: 9
A32: 10
D33: TOTAL | E33: =SUM(E22:E32) -> 0 | F33: =SUM(F22:F32) -> 0 | G33: =SUM(G22:G32) -> 0 | H33: =SUM(H22:H32) -> 0
A35: 5.53 | B35: Exterior Deck Railing
E37: Company | F37: Company | G37: Company | H37: Company
A38: Base Bid | E38: 0 | F38: 0 | G38: 0 | H38: 0
A39: 1
A40: 2
A41: 3
A42: 4
A43: 5
A44: 6
A45: 7
A46: 8
...

Sheet DIV 6 CARPENTRY
A1: 06.000 | B1: CARPENTRY
A3: 6.11 | B3: Wood Framing
E5: LP | F5: MX3 | G5: Company | H5: Company
A6: Base Bid | E6: 108784 | F6: 116010 | G6: 0 | H6: 0
A7: 1
A8: 2
A9: 3
A10: 4
A11: 5
A12: 6
A13: 7
A14: 8
A15: 9
A16: 10
D17: TOTAL | E17: =SUM(E6:E16) -> 108784 | F17: =SUM(F6:F16) -> 116010 | G17: =SUM(G6:G16) -> 0 | H17: =SUM(H6:H16) -> 0
A19: 6.15 | B19: Wood Decks
E21: Company | F21: Company | G21: Company | H21: Company
A22: Base Bid | E22: 0 | F22: 0 | G22: 0 | H22: 0
A23: 1
A24: 2
A25: 3
A26: 4
A27: 5
A28: 6
A29: 7
A30: 8
A31: 9
A32: 10
D33: TOTAL | E33: =SUM(E22:E32) -> 0 | F33: =SUM(F22:F32) -> 0 | G33: =SUM(G22:G32) -> 0 | H33: =SUM(H22:H32) -> 0
A35: 6.38 | B35: Cabinetry
E37: CKF | F37: Company | G37: Company | H37: Company
A38: Main Level | E38: Classic
B39: Kitchen | C39: ALLOWANCE | D39: *MATERIAL | E39: 41686
A40: PLUG | B40: Coffee Bar Doors | C40: ALLOWANCE | D40: *MATERIAL | E40: 5000
B41: Hidden Pantry | C41: ALLOWANCE | D41: *MATERIAL | E41: 24459
B42: Planning Room | C42: ALLOWANCE | D42: *MATERIAL | E42: 10456
B43: Drop Zone | C43: ALLOWANCE | D43: *MATERIAL | E43: 11426
B44: Powder | C44: ALLOWANCE | D44: *MATERIAL | E44: 1247
B45: Contemplation | C45: ALLOWANCE | D45: *MATERIAL | E45: 10221
A46: PLUG | B46: Contemplation Arch | C46: ALLOWANCE | D46: *MATERIAL | E46: 2000
...

Sheet DIV 7 MOISTURE PROTECTION
A1: 07.000 | B1: MOISTURE/THERMAL PROTECTION
A3: 7.13 | B3: Waterproofing/Passive Radon/Termite Treatment
E5: Jerry's | F5: BDB | G5: Stephen&Smith | H5: Company
A6: Base Bid | E6: 8989 | F6: 6356 | G6: 3911 | H6: 0 | J6: Ftg Height | K6: Length | L6: Total SF
A7: 1 | B7: Sump Pumps (2) | E7: =425*2 -> 850 | F7: 650 | G7: 500 | J7: 1 | K7: 45 | L7: =J7*K7 -> 45 | M7: above ground
A8: 2 | B8: Sewer line | E8: incl? | F8: 150 | J8: 3 | K8: 6 | L8: =J8*K8 -> 18 | M8: above ground
A9: 3 | B9: Drainage tile | E9: incl | F9: incl | J9: 5 | K9: 123 | L9: =J9*K9 -> 615 | M9: above ground
A10: 4 | B10: Drainboard | F10: incl? | J10: 10 | K10: 75 | L10: =J10*K10 -> 750
A11: 5 | J11: 11 | K11: 112 | L11: =J11*K11 -> 1232
A12: 6 | J12: 11.5 | K12: 35 | L12: =J12*K12 -> 402.5
A13: 7 | L13: =SUM(L7:L12) -> 3062.5
A14: 8
A15: 9
A16: 10
D17: TOTAL | E17: =SUM(E6:E16) -> 9839 | F17: =SUM(F6:F16) -> 7156 | G17: =SUM(G6:G16) -> 4411 | H17: =SUM(H6:H16) -> 0
A19: 7.21 | B19: Insulation
E21: Neb Bldg Prod | F21: SealRite | G21: BC Drywall | H21: Company
A22: Base Bid | E22: 17333 | F22: 0 | G22: 9750 | H22: 0
A23: 1 | B23: Insulate at basement concrete walls (unfinished) | E23: 2853
A24: 2 | B24: joists between 1st and 2nd floor | E24: 6213
A25: 3 | B25: garage walls | E25: 1191
A26: 4 | B26: garage attic | E26: 895
A27: 5 | B27: house attic upgrade from R38 to R-49 | E27: 1046
A28: 6 | B28: dining attic upgrade from R38 to R-49 | E28: 32
A29: 7
A30: 8
A31: 9
A32: 10
D33: TOTAL | E33: =SUM(E22:E32) -> 29563 | F33: =SUM(F22:F32) -> 0 | G33: =SUM(G22:G32) -> 9750 | H33: =SUM(H22:H32) -> 0
A35: 7.25 | B35: Stucco System
E37: Czech | F37: FireplaceStone | G37: Company | H37: Company
A38: Base Bid | E38: 23370 | F38: 19014 | G38: 0 | H38: 0
A39: 1
A40: 2
A41: 3
A42: 4
A43: 5
A44: 6
A45: 7
A46: 8
...

Sheet DIV 8 OPENINGS
A1: 08.000 | B1: OPENINGS
A3: 8.14 | B3: Interior Wood Doors
E5: SE Smith | F5: Christensen | G5: Taylor Made | H5: Company
A6: Base Bid | E6: 0 | F6: 0 | G6: 0 | H6: 0
B7: Main Floor - Karona | E7: 12372.27
B8: Upgrade - glass at Contemplation Doors | E8: 1900
B9: Upper floor - Karona | E9: 7156.94
B10: Upgrade - exterior frame at UL furnace | E10: 500
B11: taxes | E11: =SUM(E7+E8+E9+E10)*0.07 -> 1535.0447
B12: shims/misc. | E12: 250
B13: delivery | E13: 300
D19: TOTAL | E19: =SUM(E6:E18) -> 24014.255 | F19: =SUM(F6:F18) -> 0 | G19: =SUM(G6:G18) -> 0 | H19: =SUM(H6:H18) -> 0
A21: 8.178 | B21: Front Door
E23: Company | F23: Company | G23: Company | H23: Company
A24: Base Bid | E24: 0 | F24: 0 | G24: 0 | H24: 0
A25: 1
A26: 2
A27: 3
A28: 4
A29: 5
A30: 6
A31: 7
A32: 8
A33: 9
A34: 10
D35: TOTAL | E35: =SUM(E24:E34) -> 0 | F35: =SUM(F24:F34) -> 0 | G35: =SUM(G24:G34) -> 0 | H35: =SUM(H24:H34) -> 0
A37: 8.184 | B37: Pet Door
E39: Company | F39: Company | G39: Company | H39: Company
A40: Base Bid | E40: 0 | F40: 0 | G40: 0 | H40: 0
A41: 1
A42: 2
A43: 3
A44: 4
A45: 5
A46: 6
A47: 7
A48: 8
A49: 9
A50: 10
D51: TOTAL | E51: =SUM(E40:E50) -> 0 | F51: =SUM(F40:F50) -> 0 | G51: =SUM(G40:G50) -> 0 | H51: =SUM(H40:H50) -> 0
...

Sheet DIV 9 FINISHES
A1: 09.000 | B1: FINISHES
A3: 9.2 | B3: Drywall
E5: BC Drywall | F5: Freedom | G5: Christiansen | H5: Company
A6: Base Bid | E6: 38325 | F6: 44698 | G6: 48300 | H6: 0
A7: 1 | B7: drywall returns | E7: 1200
A8: 2 | B8: drywall perimeter walls in basement | E8: 2500
A9: 3 | B9: 5/8" drywall at ceilings | E9: 1000
A10: 4
A11: 5
A12: 6
A13: 7
A14: 8
A15: 9
A16: 10
D17: TOTAL | E17: =SUM(E6:E16) -> 43025 | F17: =SUM(F6:F16) -> 44698 | G17: =SUM(G6:G16) -> 48300 | H17: =SUM(H6:H16) -> 0
A19: 9.3 | B19: Tile
B21: Floor Tile
I23: TOTAL | J23: =J25+J32+J39+J46+J54+J61 -> 0
B25: LL Bath 009 | J25: =SUM(J26:J31) -> 0 | K25: ALTERNATE
E26: Tile Material | F26: ALLOWANCE | H26: 8 | I26: SF | J26: =G26*H26 -> 0
E27: Labor/Setting Materials | F27: ALLOWANCE | H27: 21 | I27: SF | J27: =G27*H27 -> 0
E28: Delivery | F28: ALLOWANCE | H28: 75 | I28: EA | J28: =G28*H28 -> 0
E29: Sealer | F29: ALLOWANCE | H29: 1.5 | I29: SF | J29: =G29*H29 -> 0
E30: Self Leveling | F30: ALLOWANCE | H30: 5 | I30: SF | J30: =G30*H30 -> 0
B32: Location | J32: =SUM(J33:J38) -> 0
E33: Tile Material | F33: ALLOWANCE | G33: 0 | H33: 8 | I33: SF | J33: =G33*H33 -> 0
E34: Labor/Setting Materials | F34: ALLOWANCE | G34: 0 | H34: 21 | I34: SF | J34: =G34*H34 -> 0
E35: Delivery | F35: ALLOWANCE | G35: 0 | H35: 75 | I35: EA | J35: =G35*H35 -> 0
E36: Sealer | F36: ALLOWANCE | G36: 0 | H36: 1.5 | I36: SF | J36: =G36*H36 -> 0
E37: Self Leveling | F37: ALLOWANCE | G37: 0 | H37: 5 | I37: SF | J37: =G37*H37 -> 0
B39: Location | J39: =SUM(J40:J45) -> 0
E40: Tile Material | F40: ALLOWANCE | G40: 0 | H40: 8 | I40: SF | J40: =G40*H40 -> 0
E41: Labor/Setting Materials | F41: ALLOWANCE | G41: 0 | H41: 21 | I41: SF | J41: =G41*H41 -> 0
E42: Delivery | F42: ALLOWANCE | G42: 0 | H42: 75 | I42: EA | J42: =G42*H42 -> 0
E43: Sealer | F43: ALLOWANCE | G43: 0 | H43: 1.5 | I43: SF | J43: =G43*H43 -> 0
E44: Self Leveling | F44: ALLOWANCE | G44: 0 | H44: 5 | I44: SF | J44: =G44*H44 -> 0
B46: Location | J46: =SUM(J47:J53) -> 0
E47: Tile Material | F47: ALLOWANCE | G47: 0 | H47: 8 | I47: SF | J47: =G47*H47 -> 0
E48: Labor/Setting Materials | F48: ALLOWANCE | G48: 0 | H48: 21 | I48: SF | J48: =G48*H48 -> 0
E49: Delivery | F49: ALLOWANCE | G49: 0 | H49: 75 | I49: EA | J49: =G49*H49 -> 0
...

Sheet DIV 10 SPECIALTIES
A1: 10.000 | B1: SPECIALTIES
A3: 10.05 | B3: Finish Hardware Allowance
B5: Cabinet Hardware
B6: POWDER BATH | D6: DOORS/DRAWERS | F6: 0 | G6: 10 | H6: =F6*G6 -> 0
B8: SERVICE ENTRY | D8: DOORS/DRAWERS | F8: 0 | G8: 10 | H8: =F8*G8 -> 0
D9: HOOKS | F9: 0 | G9: 10 | H9: =F9*G9 -> 0
B11: PRIMARY BATH | D11: DOORS/DRAWERS | F11: 0 | G11: 10 | H11: =F11*G11 -> 0
B13: PRIMARY WARDROBE | D13: DOORS/DRAWERS | F13: 0 | G13: 10 | H13: =F13*G13 -> 0
B15: GREAT ROOM | D15: DOORS/DRAWERS | F15: 0 | G15: 10 | H15: =F15*G15 -> 0
B17: KITCHEN ISLAND | D17: DOORS/DRAWERS | F17: 0 | G17: 10 | H17: =F17*G17 -> 0
B19: KITCHEN | D19: DOORS/DRAWERS | F19: 0 | G19: 10 | H19: =F19*G19 -> 0
D20: APPLIANCE PULLS | F20: 0 | G20: 350 | H20: =F20*G20 -> 0
B22: PANTRY | D22: DOORS/DRAWERS | F22: 0 | G22: 10 | H22: =F22*G22 -> 0
B24: LAUNDRY | D24: DOORS/DRAWERS | F24: 0 | G24: 10 | H24: =F24*G24 -> 0
B26: BATHROOM | D26: DOORS/DRAWERS | F26: 0 | G26: 10 | H26: =F26*G26 -> 0
B28: BATHROOM | D28: DOORS/DRAWERS | F28: 0 | G28: 10 | H28: =G28*F28 -> 0
B30: BATHROOM | D30: DOORS/DRAWERS | F30: 0 | G30: 10 | H30: =G30*F30 -> 0
B32: BAR | D32: DOORS/DRAWERS | F32: 0 | G32: 10 | H32: =G32*F32 -> 0
B34: GARAGE | D34: DOORS/DRAWERS | F34: 0 | G34: 10 | H34: =G34*F34 -> 0
B36: OUTDOOR | D36: DOORS/DRAWERS | F36: 0 | G36: 10 | H36: =G36*F36 -> 0
G37: SUBTOTAL | H37: =SUM(H6:H36) -> 0
G38: FREIGHT | H38: 100
G39: 7% TAX | H39: =(H37+H38)*0.07 -> 7
G40: TOTAL | H40: =SUM(H37:H39) -> 107
B42: Door Hardware
B43: LOCATION | F43: QTY | G43: UNIT COST | H43: SUBTOTAL
B44: Lower Level
B45: DOOR LEVERS (PASSAGE/PRIVACY) | E45: Schlage Custom | F45: 0 | G45: 95 | H45: =F45*G45 -> 0
B46: DUMMIES | E46: Schlage Custom | F46: 0 | G46: 445 | H46: =F46*G46 -> 0
B47: POCKET DOOR | E47: Emtek | F47: 0 | G47: 275 | H47: =F47*G47 -> 0
B48: 3 1/2" HINGES - per pair | F48: 0 | G48: 14 | H48: =F48*G48 -> 0
B49: 4" HINGES - per pair | F49: 0 | G49: 18 | H49: =F49*G49 -> 0
B50: HINGE DOOR STOP | F50: 0 | G50: 10 | H50: =F50*G50 -> 0
B51: BASE DOOR STOP | F51: 0 | G51: 15 | H51: =F51*G51 -> 0
B53: Main Level
B54: FRONT DOOR HARDWARE | F54: 0 | G54: 600 | H54: =F54*G54 -> 0
B55: PATIO - MULTIPOINT | E55: Emtek | F55: 0 | G55: 575 | H55: =F55*G55 -> 0
B56: DOOR LEVERS (PASSAGE/PRIVACY) | E56: Emtek | F56: 0 | G56: 187 | H56: =F56*G56 -> 0
B57: DEADBOLTS (AT GARAGE) | E57: Emtek | F57: 0 | G57: 100 | H57: =F57*G57 -> 0
B58: DUMMIES | E58: Emtek | F58: 0 | G58: 187 | H58: =F58*G58 -> 0
...

Sheet DIV 11 EQUIPMENT
A1: 11.000 | B1: EQUIPMENT
A3: 11.302 | B3: Appliances Allowance
E5: Ferguson | F5: Company | G5: Company | H5: Company
A6: Base Bid | E6: 0 | F6: 0 | G6: 0 | H6: 0
B7: KITCHEN
B8: Kitchen hood | E8: 1509
B9: Kitchen range | E9: 12704
B10: Kitchen oven | E10: 7099
B11: Kitchen STEAM OVEN | E11: 8134
B12: Kitchen dishwasher | E12: 2919
B13: Kitchen fridge | E13: =10649+26.22 -> 10675.22
B14: Kitchen freezer | E14: =9549+299 -> 9848
B15: built in column install | E15: 380
B16: PANTRY
B17: Pantry ice maker (PLUG) | E17: 3000
B18: Pantry fridge/freezer combo | E18: =2079.98+26.22+95 -> 2201.2
B19: Pantry Microwave (PLUG) | E19: 750
B20: PATIO
B21: Patio hood | E21: 3139
B22: Patio grill | E22: 3699
B23: LAUNDRY
B24: Laundry washer main | E24: =1079.98+40+49.88 -> 1169.86
B25: Laundry dryer main | E25: =1079.98+40+65.39+20+20.55+40 -> 1265.92
B26: Steamer | E26: =1599.98+100 -> 1699.98
B27: Laundry washer/dryer stack upstairs | E27: =2199.98+100 -> 2299.98
B28: Delivery | E28: 190
B29: SUBTOTAL | E29: =SUM(E8:E28) -> 72683.16
B30: TAX | E30: =SUM(E29)*0.07 -> 5087.8212
D31: TOTAL | E31: =SUM(E29:E30) -> 77770.981 | F31: =SUM(F6:F30) -> 0 | G31: =SUM(G6:G30) -> 0 | H31: =SUM(H6:H30) -> 0
A33: 11.52 | B33: TV's Allowance
E35: Company | F35: Company | G35: Company | H35: Company
A36: Base Bid | E36: 0 | F36: 0 | G36: 0 | H36: 0
A37: 1
A38: 2
A39: 3
A40: 4
A41: 5
A42: 6
A43: 7
A44: 8
...

Sheet DIV 12 FURNISHINGS
A1: 12.000 | B1: FURNISHINGS
A3: 12.17 | B3: Art Glass
E5: Company | F5: Company | G5: Company | H5: Company
A6: Base Bid | E6: 0 | F6: 0 | G6: 0 | H6: 0
A7: 1
A8: 2
A9: 3
A10: 4
A11: 5
A12: 6
A13: 7
A14: 8
A15: 9
A16: 10
D17: TOTAL | E17: =SUM(E6:E16) -> 0 | F17: =SUM(F6:F16) -> 0 | G17: =SUM(G6:G16) -> 0 | H17: =SUM(H6:H16) -> 0
A19: 12.2 | B19: Window Treatments
E21: Company | F21: Company | G21: Company | H21: Company
A22: Base Bid | E22: 0 | F22: 0 | G22: 0 | H22: 0
A23: 1
A24: 2
A25: 3
A26: 4
A27: 5
A28: 6
A29: 7
A30: 8
A31: 9
A32: 10
D33: TOTAL | E33: =SUM(E22:E32) -> 0 | F33: =SUM(F22:F32) -> 0 | G33: =SUM(G22:G32) -> 0 | H33: =SUM(H22:H32) -> 0
A35: 12.25 | B35: Motorized Shades
E37: Company | F37: Company | G37: Company | H37: Company
A38: Base Bid | E38: 0 | F38: 0 | G38: 0 | H38: 0
A39: 1
A40: 2
A41: 3
A42: 4
A43: 5
A44: 6
A45: 7
A46: 8
...

Sheet DIV 13 SPECIAL CONST.
A1: 13.000 | B1: SPECIAL CONSTRUCTION
A3: 13.112 | B3: Swimming Pool
E5: Company | F5: Company | G5: Company | H5: Company
A6: Base Bid | E6: 0 | F6: 0 | G6: 0 | H6: 0
A7: 1
A8: 2
A9: 3
A10: 4
A11: 5
A12: 6
A13: 7
A14: 8
A15: 9
A16: 10
D17: TOTAL | E17: =SUM(E6:E16) -> 0 | F17: =SUM(F6:F16) -> 0 | G17: =SUM(G6:G16) -> 0 | H17: =SUM(H6:H16) -> 0
A19: 13.174 | B19: Sauna
E21: Equinox III | F21: Sanctuary 3 | G21: Company | H21: Company
A22: Base Bid | E22: 6999 | F22: 8121 | G22: 0 | H22: 0
A23: 1 | B23: shipping | E23: 1500
A24: 2 | B24: taxes | E24: 489.94
A25: 3
A26: 4
A27: 5 | B27: Labow | E27: 1170 | F27: 1170
A28: 6
A29: 7
A30: 8
A31: 9
A32: 10
D33: TOTAL | E33: =SUM(E22:E32) -> 10158.94 | F33: =SUM(F22:F32) -> 9291 | G33: =SUM(G22:G32) -> 0 | H33: =SUM(H22:H32) -> 0
A35: 13.26 | B35: Storm Shelter Room(s)
E37: Company | F37: Company | G37: Company | H37: Company
A38: Base Bid | E38: 0 | F38: 0 | G38: 0 | H38: 0
A39: 1
A40: 2
A41: 3
A42: 4
A43: 5
A44: 6
A45: 7
A46: 8
...

Sheet DIV 14 CONVEYING SYSTEMS
A1: 14.000 | B1: CONVEYING SYSTEMS
A3: 14.05 | B3: Elevators
E5: Company | F5: Company | G5: Company | H5: Company
A6: Base Bid | E6: 0 | F6: 0 | G6: 0 | H6: 0
A7: 1
A8: 2
A9: 3
A10: 4
A11: 5
A12: 6
A13: 7
A14: 8
A15: 9
A16: 10
D17: TOTAL | E17: =SUM(E6:E16) -> 0 | F17: =SUM(F6:F16) -> 0 | G17: =SUM(G6:G16) -> 0 | H17: =SUM(H6:H16) -> 0

Sheet DIV 21 FIRE SUPRESSION
A1: 21.000 | B1: FIRE SUPPRESSION
A3: 21.05 | B3: Fire Suppression
E5: Company | F5: Company | G5: Company | H5: Company
A6: Base Bid | E6: 0 | F6: 0 | G6: 0 | H6: 0
A7: 1
A8: 2
A9: 3
A10: 4
A11: 5
A12: 6
A13: 7
A14: 8
A15: 9
A16: 10
D17: TOTAL | E17: =SUM(E6:E16) -> 0 | F17: =SUM(F6:F16) -> 0 | G17: =SUM(G6:G16) -> 0 | H17: =SUM(H6:H16) -> 0

Sheet DIV 22-23 PLUM-HVAC
A1: 22.000 | B1: PLUMBING
A3: 22.05 | B3: Plumbing
E5: TNP | F5: Walvoord | G5: Company | H5: Company
A6: Base Bid | E6: 87294.13 | F6: 0 | G6: 0 | H6: 0
A7: 1 | B7: basement breakout | E7: -3968.81
A8: 2
A9: 3
A10: 4
A11: 5
A12: 6
A13: 7
A14: 8
A15: 9
A16: 10
D17: TOTAL | E17: =SUM(E6:E16) -> 83325.32 | F17: =SUM(F6:F16) -> 0 | G17: =SUM(G6:G16) -> 0 | H17: =SUM(H6:H16) -> 0
A19: 22.322 | B19: Water Filtration System
E21: Futuramic | F21: CleanWaterGuys | G21: Company | H21: Company
A22: Base Bid | E22: 0 | F22: 6066.9 | G22: 0 | H22: 0
A23: 1 | B23: water softener | E23: 4263
A24: 2 | B24: RO | E24: 4289
A25: 3
A26: 4
A27: 5
A28: 6
A29: 7
A30: 8
A31: 9
A32: 10
D33: TOTAL | E33: =SUM(E22:E32) -> 8552 | F33: =SUM(F22:F32) -> 6066.9 | G33: =SUM(G22:G32) -> 0 | H33: =SUM(H22:H32) -> 0
A35: 22.4 | B35: Plumbing Fixtures Allowance
D37: QUANITITY | E37: UNIT COST | F37: SUBTOTAL
B38: KITCHEN
B39: SINK | D39: 1 | E39: 4585.5 | F39: =D39*E39 -> 4585.5
B40: DISPOSAL | D40: 1 | E40: 280.73 | F40: =D40*E40 -> 280.73
B41: BASKET STRAINER | D41: 1 | E41: 42.59 | F41: =D41*E41 -> 42.59
B42: FAUCET | D42: 1 | E42: 913.5 | F42: =D42*E42 -> 913.5
B43: RO FAUCET | D43: 1 | E43: 548.1 | F43: =D43*E43 -> 548.1
B44: SOAP DISPENSER | D44: 1 | E44: 205.54 | F44: =D44*E44 -> 205.54
B45: AIR SWITCH | D45: 1 | E45: 155.3 | F45: =D45*E45 -> 155.3
B46: POT FILLER | D46: 0 | E46: 700 | F46: =D46*E46 -> 0
...

Sheet DIV 26-28 ELEC. - LV
A1: 26.000 | B1: ELECTRICAL
A3: 26.05 | B3: Electrical Service & Wiring
E5: Custom | F5: Victory | G5: Company | H5: Company
A6: Base Bid | E6: 87275 | F6: 56680 | G6: 0 | H6: 0
A7: 1 | B7: Patio motorized screen | E7: 100 | F7: 150
A8: 2 | B8: Lutron labor | E8: 12000 | F8: 4000
A9: 3 | B9: garage heaters | E9: 2700 | F9: 4500
A10: 4 | B10: deck heater | E10: 2000 | F10: 2065
A11: 5
A12: 6
A13: 7
A14: 8
A15: 9
A16: 10
D17: TOTAL | E17: =SUM(E6:E16) -> 104075 | F17: =SUM(F6:F16) -> 67395 | G17: =SUM(G6:G16) -> 0 | H17: =SUM(H6:H16) -> 0
A19: 26.41 | B19: Lightning Protection
E21: Company | F21: Company | G21: Company | H21: Company
A22: Base Bid | E22: 0 | F22: 0 | G22: 0 | H22: 0
A23: 1
A24: 2
A25: 3
A26: 4
A27: 5
A28: 6
A29: 7
A30: 8
A31: 9
A32: 10
D33: TOTAL | E33: =SUM(E22:E32) -> 0 | F33: =SUM(F22:F32) -> 0 | G33: =SUM(G22:G32) -> 0 | H33: =SUM(H22:H32) -> 0
A35: 26.505 | B35: Light Fixtures Allowance
B37: *ALLOWANCE UNIT COSTS INCLUDE ALL BULBS
B38: LOCATION | D38: TYPE | F38: QTY | G38: UNIT PRICE | H38: SUBTOTAL
B39: Main Level
B40: FOYER | D40: CEILING MOUNT | F40: 0 | G40: 500 | H40: =F40*G40 -> 0
B41: DINING | D41: CEILING MOUNT | F41: 0 | G41: 1000 | H41: =F41*G41 -> 0
B42: POWDER BATH | D42: WALL MOUNT | F42: 0 | G42: 150 | H42: =F42*G42 -> 0
B43: KITCHEN | D43: PENDANTS | F43: 0 | G43: 250 | H43: =F43*G43 -> 0
B44: GREAT ROOM | D44: CEILING FAN | F44: 0 | G44: 400 | H44: =F44*G44 -> 0
B45: LAUNDRY ROOM | D45: FLUSH MOUNT - by elect. | F45: 0 | G45: 0 | H45: =F45*G45 -> 0
B46: PRIMARY BEDROOM | D46: CEILING FAN | F46: 0 | G46: 250 | H46: =F46*G46 -> 0
...

Sheet DIV 31-32 EARTH-SITE
A1: 31.000 | B1: EARTHWORK
A3: 31.218 | B3: Site Demolition
E5: Company | F5: Company | G5: Company | H5: Company
A6: Base Bid | E6: 0 | F6: 0 | G6: 0 | H6: 0
A7: 1
A8: 2
A9: 3
A10: 4
A11: 5
A12: 6
A13: 7
A14: 8
A15: 9
A16: 10
D17: TOTAL | E17: =SUM(E6:E16) -> 0 | F17: =SUM(F6:F16) -> 0 | G17: =SUM(G6:G16) -> 0 | H17: =SUM(H6:H16) -> 0
A19: 31.23 | B19: Excavation/Fill/Grading/Silt Fence
E21: Company | F21: Company | G21: Company | H21: Company
A22: Base Bid | E22: 0 | F22: 0 | G22: 0 | H22: 0
A23: 1
A24: 2
A25: 3
A26: 4
A27: 5
A28: 6
A29: 7
A30: 8
A31: 9
A32: 10
D33: TOTAL | E33: =SUM(E22:E32) -> 0 | F33: =SUM(F22:F32) -> 0 | G33: =SUM(G22:G32) -> 0 | H33: =SUM(H22:H32) -> 0
A35: 31.26 | B35: Surveying
E37: Company | F37: Company | G37: Company | H37: Company
A38: Base Bid | E38: 0 | F38: 0 | G38: 0 | H38: 0
A39: 1
A40: 2
A41: 3
A42: 4
A43: 5
A44: 6
A45: 7
A46: 8
...

Sheet DIV 33 UTILITES
A1: 33.000 | B1: UTILITIES
A3: 33.02 | B3: Sewer / Water Utilities
E5: Company | F5: Company | G5: Company | H5: Company
A6: Base Bid | E6: 0 | F6: 0 | G6: 0 | H6: 0
A7: 1
A8: 2
A9: 3
A10: 4
A11: 5
A12: 6
A13: 7
A14: 8
A15: 9
A16: 10
D17: TOTAL | E17: =SUM(E6:E16) -> 0 | F17: =SUM(F6:F16) -> 0 | G17: =SUM(G6:G16) -> 0 | H17: =SUM(H6:H16) -> 0
A19: 33.462 | B19: Underground Buried Drainage
E21: Company | F21: Company | G21: Company | H21: Company
A22: Base Bid | E22: 0 | F22: 0 | G22: 0 | H22: 0
A23: 1
A24: 2
A25: 3
A26: 4
A27: 5
A28: 6
A29: 7
A30: 8
A31: 9
A32: 10
D33: TOTAL | E33: =SUM(E22:E32) -> 0 | F33: =SUM(F22:F32) -> 0 | G33: =SUM(G22:G32) -> 0 | H33: =SUM(H22:H32) -> 0
