Workbook

Sheet PROJECT SUMMARY
A3: PROJECT COST SUMMARY
A5: PROJECT | C5: Hogan Residence
A6: PROJECT MANAGER | L6: LOWER LEVEL | M6: 2072
A7: LOCATION | C7: 811 N 143rd Plaza, Omaha, NE 68154 | L7: MAIN LEVEL | M7: 2867
A8: DATE | C8: July 2026 | L8: TOTAL FINISHED SF | M8: =SUM(M6:M7) -> 4939
A9: LOT # | C9: 21 | L9: GARAGE | M9: 756
A10: ZONING | L10: LOWER UNFINISHED | M10: =761+806 -> 1567
L11: COVERED PATIO | M11: 380
L12: TOTAL SF UNDER ROOF | M12: =SUM(M8:M11) -> 7642
A14: PHASE | C14: DESCRIPTION | E14: ALLOW. | F14: LABOR | G14: MATERIAL | H14: OTHER | I14: SUBCONT. | K14: DIVISION | L14: FINISHED COST/SF | M14: UNDER ROOF | N14: Deposit | O14: Lot | P14: Pay App #1 | Q14: Pay App #2 | R14: Pay App #3 | S14: Pay App #4 | T14: Pay App #5 | U14: Pay App #6 | V14: Pay App #7 | W14: Pay App #8 | X14: Pay App #9 | Y14: Pay App #10 | Z14: Pay App #11 | AA14: Pay App #12 | AB14: Pay App #13 | AC14: Pay App #14 | AD14: Pay App #15 | AE14: Pay App #16 | AF14: Pay App #17
A15: 1 | C15: GENERAL REQUIREMENTS | I15: TOTAL | K15: =SUM(K16:K32) -> 159593 | L15: =IFERROR(K15/M$8,"$0") -> 32.312816 | M15: =IFERROR(K15/M$12,"$0") -> 20.883669 | AG15: =SUM(P15:AF15) -> 0
A16: 01.120 | C16: Superintendent | E16: 0 | F16: 70125 | G16: 0 | H16: 0 | I16: 0 | K16: =SUM(E16:I16) -> 70125 | L16: =IFERROR(K16/M$8,"$0") -> 14.198218 | M16: =IFERROR(K16/M$12,"$0") -> 9.1762628 | P16: 1500 | Q16: 1500 | R16: 1500 | AG16: =SUM(P16:AF16) -> 4500
A17: 01.170 | C17: Travel/Pickup/Deliveries | E17: 0 | F17: 0 | G17: 0 | H17: 3000 | I17: 0 | K17: =SUM(E17:I17) -> 3000 | L17: =IFERROR(K17/M$8,"$0") -> 0.60741041 | M17: =IFERROR(K17/M$12,"$0") -> 0.39256739 | AG17: =SUM(P17:AF17) -> 0
A18: 01.205 | C18: MUD Fees | E18: 0 | F18: 0 | G18: 0 | H18: 4350 | I18: 0 | K18: =SUM(E18:I18) -> 4350 | L18: =IFERROR(K18/M$8,"$0") -> 0.88074509 | M18: =IFERROR(K18/M$12,"$0") -> 0.56922272 | AG18: =SUM(P18:AF18) -> 0
A19: 01.214 | C19: Bldg. Permit | E19: 0 | F19: 0 | G19: 0 | H19: 6822 | I19: 0 | K19: =SUM(E19:I19) -> 6822 | L19: =IFERROR(K19/M$8,"$0") -> 1.3812513 | M19: =IFERROR(K19/M$12,"$0") -> 0.89269825 | P19: 6822 | AG19: =SUM(P19:AF19) -> 6822
A20: 01.230 | C20: Builders Risk | E20: 0 | F20: 0 | G20: 0 | H20: 3096 | I20: 0 | K20: =SUM(E20:I20) -> 3096 | L20: =IFERROR(K20/M$8,"$0") -> 0.62684754 | M20: =IFERROR(K20/M$12,"$0") -> 0.40512955 | AG20: =SUM(P20:AF20) -> 0
A21: 01.235 | C21: General Liability | E21: 0 | F21: 0 | G21: 0 | H21: 5956 | I21: 0 | K21: =SUM(E21:I21) -> 5956 | L21: =IFERROR(K21/M$8,"$0") -> 1.2059121 | M21: =IFERROR(K21/M$12,"$0") -> 0.77937713 | AG21: =SUM(P21:AF21) -> 0
A22: 01.452 | C22: Testing/Inspections | E22: 0 | F22: 0 | G22: 0 | H22: 0 | I22: 0 | K22: =SUM(E22:I22) -> 0 | L22: =IFERROR(K22/M$8,"$0") -> 0 | M22: =IFERROR(K22/M$12,"$0") -> 0 | AG22: =SUM(P22:AF22) -> 0
A23: 01.454 | C23: Mockups | E23: 0 | F23: 1500 | G23: 750 | H23: 0 | I23: 0 | K23: =SUM(E23:I23) -> 2250 | L23: =IFERROR(K23/M$8,"$0") -> 0.45555781 | M23: =IFERROR(K23/M$12,"$0") -> 0.29442554 | AG23: =SUM(P23:AF23) -> 0
A24: 01.501 | C24: Temporary Utilities | E24: 0 | F24: 0 | G24: 0 | H24: 2719 | I24: 5250 | K24: =SUM(E24:I24) -> 7969 | L24: =IFERROR(K24/M$8,"$0") -> 1.6134845 | M24: =IFERROR(K24/M$12,"$0") -> 1.0427898 | AG24: =SUM(P24:AF24) -> 0
A25: 01.538 | C25: Technology | E25: 0 | F25: 0 | G25: 0 | H25: 1200 | I25: 0 | K25: =SUM(E25:I25) -> 1200 | L25: =IFERROR(K25/M$8,"$0") -> 0.24296416 | M25: =IFERROR(K25/M$12,"$0") -> 0.15702696 | AG25: =SUM(P25:AF25) -> 0
A26: 01.540 | C26: Equipment (Forklift/Skid Loader) | E26: 0 | F26: 0 | G26: 0 | H26: 1750 | I26: 0 | K26: =SUM(E26:I26) -> 1750 | L26: =IFERROR(K26/M$8,"$0") -> 0.35432274 | M26: =IFERROR(K26/M$12,"$0") -> 0.22899764 | AG26: =SUM(P26:AF26) -> 0
A27: 01.560 | C27: Temporary Barriers/Enclosures/Protection | E27: 0 | F27: 2400 | G27: 750 | H27: 0 | I27: 0 | K27: =SUM(E27:I27) -> 3150 | L27: =IFERROR(K27/M$8,"$0") -> 0.63778093 | M27: =IFERROR(K27/M$12,"$0") -> 0.41219576 | AG27: =SUM(P27:AF27) -> 0
A28: 01.578 | C28: Site Maintenance (Snow Removal/Mowing) | E28: 0 | F28: 900 | G28: 0 | H28: 0 | I28: 0 | K28: =SUM(E28:I28) -> 900 | L28: =IFERROR(K28/M$8,"$0") -> 0.18222312 | M28: =IFERROR(K28/M$12,"$0") -> 0.11777022 | AG28: =SUM(P28:AF28) -> 0
A29: 01.740 | C29: Cleaning & Waste Management (Dumpsters) | E29: 0 | F29: 13200 | G29: 0 | H29: 8250 | I29: 4800 | K29: =SUM(E29:I29) -> 26250 | L29: =IFERROR(K29/M$8,"$0") -> 5.3148411 | M29: =IFERROR(K29/M$12,"$0") -> 3.4349647 | AG29: =SUM(P29:AF29) -> 0
A30: 01.810 | C30: Warranties | E30: 0 | F30: 0 | G30: 0 | H30: 15600 | I30: 0 | K30: =SUM(E30:I30) -> 15600 | L30: =IFERROR(K30/M$8,"$0") -> 3.1585341 | M30: =IFERROR(K30/M$12,"$0") -> 2.0413504 | AG30: =SUM(P30:AF30) -> 0
A31: 01.830 | C31: Small Tools/Supply/Rentals | E31: 0 | F31: 0 | G31: 0 | H31: 2175 | I31: 0 | K31: =SUM(E31:I31) -> 2175 | L31: =IFERROR(K31/M$8,"$0") -> 0.44037255 | M31: =IFERROR(K31/M$12,"$0") -> 0.28461136 | AG31: =SUM(P31:AF31) -> 0
A32: 01.840 | C32: Punchlist | E32: 0 | F32: 5000 | G32: 0 | H32: 0 | I32: 0 | K32: =SUM(E32:I32) -> 5000 | L32: =IFERROR(K32/M$8,"$0") -> 1.0123507 | M32: =IFERROR(K32/M$12,"$0") -> 0.65427898 | AG32: =SUM(P32:AF32) -> 0
A33: 2 | C33: EXISTING CONDITIONS | I33: TOTAL | K33: =SUM(K34) -> 0 | L33: =IFERROR(K33/M$8,"$0") -> 0 | M33: =IFERROR(K33/M$12,"$0") -> 0 | AG33: =SUM(P33:AF33) -> 0
A34: 02.010 | C34: Demolition | E34: 0 | F34: 0 | G34: 0 | H34: 0 | I34: 0 | K34: =SUM(E34:I34) -> 0 | L34: =IFERROR(K34/M$8,"$0") -> 0 | M34: =IFERROR(K34/M$12,"$0") -> 0 | AG34: =SUM(P34:AF34) -> 0
A35: 3 | C35: CONCRETE | I35: TOTAL | K35: =SUM(K36:K37) -> 120023 | L35: =IFERROR(K35/M$8,"$0") -> 24.301073 | M35: =IFERROR(K35/M$12,"$0") -> 15.705705 | AG35: =SUM(P35:AF35) -> 0
A36: 03.300 | C36: Footings / Foundations | E36: 0 | F36: 0 | G36: 0 | H36: 450 | I36: 92051 | K36: =SUM(E36:I36) -> 92501 | L36: =IFERROR(K36/M$8,"$0") -> 18.72869 | M36: =IFERROR(K36/M$12,"$0") -> 12.104292 | P36: 92051 | AG36: =SUM(P36:AF36) -> 92051
A37: 03.320 | C37: Interior Concrete Flatwork | E37: 0 | F37: 0 | G37: 0 | H37: 0 | I37: 27522 | K37: =SUM(E37:I37) -> 27522 | L37: =IFERROR(K37/M$8,"$0") -> 5.5723831 | M37: =IFERROR(K37/M$12,"$0") -> 3.6014132 | Q37: 16513 | R37: 11009 | AG37: =SUM(P37:AF37) -> 27522
A38: 4 | C38: MASONRY | I38: TOTAL | K38: =SUM(K39:K41) -> 134740 | L38: =IFERROR(K38/M$8,"$0") -> 27.280826 | M38: =IFERROR(K38/M$12,"$0") -> 17.63151 | AG38: =SUM(P38:AF38) -> 0
A39: 04.210 | C39: Brick Masonry | E39: 0 | F39: 0 | G39: 31622 | H39: 0 | I39: 19565 | K39: =SUM(E39:I39) -> 51187 | L39: =IFERROR(K39/M$8,"$0") -> 10.363839 | M39: =IFERROR(K39/M$12,"$0") -> 6.6981157 | AG39: =SUM(P39:AF39) -> 0
A40: 04.220 | C40: Concrete Unit Masonry (Blockwork) | E40: 0 | F40: 0 | G40: 1150 | H40: 0 | I40: 1350 | K40: =SUM(E40:I40) -> 2500 | L40: =IFERROR(K40/M$8,"$0") -> 0.50617534 | M40: =IFERROR(K40/M$12,"$0") -> 0.32713949 | P40: 950 | AG40: =SUM(P40:AF40) -> 950
A41: 04.430 | C41: Stone Masonry / Precast Sills & Caps | E41: 0 | F41: 0 | G41: 25118 | H41: 17440 | I41: 38495 | K41: =SUM(E41:I41) -> 81053 | L41: =IFERROR(K41/M$8,"$0") -> 16.410812 | M41: =IFERROR(K41/M$12,"$0") -> 10.606255 | AG41: =SUM(P41:AF41) -> 0
A42: 5 | C42: METAL | I42: TOTAL | K42: =SUM(K43:K46) -> 20019 | L42: =IFERROR(K42/M$8,"$0") -> 4.0532496 | M42: =IFERROR(K42/M$12,"$0") -> 2.6196022 | AG42: =SUM(P42:AF42) -> 0
A43: 05.120 | C43: Structural Steel Material | E43: 0 | F43: 0 | G43: 0 | H43: 0 | I43: 14069 | K43: =SUM(E43:I43) -> 14069 | L43: =IFERROR(K43/M$8,"$0") -> 2.8485523 | M43: =IFERROR(K43/M$12,"$0") -> 1.8410102 | R43: 14069 | AG43: =SUM(P43:AF43) -> 14069
A44: 05.528 | C44: Metal Interior Railing | E44: 0 | F44: 0 | G44: 0 | H44: 0 | I44: 5250 | K44: =SUM(E44:I44) -> 5250 | L44: =IFERROR(K44/M$8,"$0") -> 1.0629682 | M44: =IFERROR(K44/M$12,"$0") -> 0.68699293 | AG44: =SUM(P44:AF44) -> 0
...

Sheet Cash Flow Version 2
A1: Approximate Cashflow Projection
A2: Hogan Residence
A3: 46251 | J3: assumed total value
J4: 3425000
A5: MACKINTOSH | F5: HOGAN | I5: CROCKETT
A6: Bldg Months | C6: Payment | E6: % of Contract | F6: Bldg Months | G6: Payment | H6: % of Contract | I6: Bldg Months | J6: Payment | K6: % of Contract
B7: Deposit | C7: 110000 | F7: Deposit | G7: 190000 | I7: Deposit | J7: 200000
A8: 1 | B8: - | C8: 0 | E8: - | F8: 1 | G8: 0 | H8: - | I8: 1 | J8: 0
A9: 2 | B9: 45322 | C9: 234944 | E9: 0.1 | F9: 2 | G9: 276314 | H9: 0.1 | I9: 2 | J9: =J4*K9 -> 274000 | K9: 0.08
A10: 3 | B10: 45351 | C10: 94949 | E10: 0.04 | F10: 3 | G10: 110525 | H10: 0.04 | I10: 3 | J10: =J4*K10 -> 171250 | K10: 0.05
A11: 4 | B11: 45412 | C11: 166645 | E11: 0.07 | F11: 4 | G11: 193418 | H11: 0.07 | I11: 4 | J11: =J4*K11 -> 274000 | K11: 0.08
A12: 5 | B12: 45443 | C12: 142429 | E12: 0.06 | F12: 5 | G12: 165787 | H12: 0.06 | I12: 5 | J12: =J4*K12 -> 205500 | K12: 0.06
A13: 6 | B13: 45473 | C13: 67713 | E13: 0.03 | F13: 6 | G13: 110525 | H13: 0.04 | I13: 6 | J13: =J4*K13 -> 137000 | K13: 0.04
A14: 7 | B14: 45504 | C14: 140380 | E14: 0.06 | F14: 7 | G14: 165787 | H14: 0.06 | I14: 7 | J14: =J4*K14 -> 205500 | K14: 0.06
A15: 8 | B15: 45535 | C15: 163694 | E15: 0.07 | F15: 8 | G15: 193418 | H15: 0.07 | I15: 8 | J15: =J4*K15 -> 239750 | K15: 0.07
A16: 9 | B16: 45565 | C16: 213471 | E16: 0.09 | F16: 9 | G16: 193418 | H16: 0.07 | I16: 9 | J16: =J4*K16 -> 239750 | K16: 0.07
A17: 10 | B17: 45596 | C17: 165645 | E17: 0.07 | F17: 10 | G17: 193418 | H17: 0.07 | I17: 10 | J17: =J4*K17 -> 239750 | K17: 0.07
A18: 11 | B18: 11/31/2024 | C18: 0 | D18: 80392 | F18: 11 | G18: 110525 | H18: 0.04 | I18: 11 | J18: =J4*K18 -> 137000 | K18: 0.04
A19: 12 | B19: 45657 | C19: 160783 | D19: 80392 | E19: 0.07 | F19: 12 | G19: 110525 | H19: 0.04 | I19: 12 | J19: =J4*K19 -> 137000 | K19: 0.04
A20: 13 | B20: 45688 | C20: 122809 | E20: 0.05 | F20: 13 | G20: 138156 | H20: 0.05 | I20: 13 | J20: =J4*K20 -> 171250 | K20: 0.05
A21: 14 | B21: 45716 | C21: 0 | D21: 94794 | F21: 14 | G21: 110525 | H21: 0.04 | I21: 14 | J21: =J4*K21 -> 137000 | K21: 0.04
A22: 15 | B22: 45747 | C22: 189587 | D22: 94794 | E22: 0.08 | F22: 15 | G22: 110525 | H22: 0.04 | I22: 15 | J22: =J4*K22 -> 137000 | K22: 0.04
A23: 16 | B23: 4/31/2025 | C23: 0 | D23: 148965 | F23: 16 | G23: 193418 | H23: 0.07 | I23: 16 | J23: =J4*K23 -> 137000 | K23: 0.04
A24: 17 | B24: 45808 | C24: 0 | D24: 148965 | F24: 17 | G24: 193418 | H24: 0.07 | I24: 17 | J24: =J4*K24 -> 239750 | K24: 0.07
A25: 18 | B25: 46234 | C25: 446895 | D25: 148965 | E25: 0.2 | F25: 18 | G25: 193418 | H25: 0.07 | I25: 18 | J25: =J4*K25 -> 102750 | K25: 0.03
I26: 19 | J26: =J4*K26 -> 239750 | K26: 0.07
B27: less deposit | C27: -110000 | F27: less deposit | G27: -190000 | I27: less desposit | J27: -200000
B28: TOTAL SUM | C28: =SUM(C7:C27) -> 2309944 | F28: TOTAL SUM | G28: =SUM(G7:G27) -> 2763120 | I28: TOTAL SUM | J28: =SUM(J7:J27) -> 3425000

Sheet Cash Flow Version 2 Homeowner
A1: Approximate Cashflow Projection - Hogan | D1: Approximate Cashflow Projection - Crockett
A2: 46251 | D2: 46255
A4: August 2026 | B4: Lot Purchase | C4: 255000
D5: billings typically middle of month
A6: Home Construction | D6: Home Construction
A7: Month | B7: Invoice # | C7: Approx. Payment | D7: Month | E7: Invoice # | F7: Approx. Payment
A8: August 2026 | B8: Deposit | C8: 190000 | D8: September 2026 | E8: Deposit | F8: ='Cash Flow Version 2'!J7 -> 200000
A9: September 2026 | B9: 1 | C9: 0 | D9: October 2026 | E9: 1 | F9: 0
A10: October 2026 | B10: 2 | C10: 276314 | D10: November 2026 | E10: 2 | F10: ='Cash Flow Version 2'!J9 -> 274000
A11: November 2026 | B11: 3 | C11: 110525 | D11: December 2026 | E11: 3 | F11: ='Cash Flow Version 2'!J10 -> 171250
A12: December 2026 | B12: 4 | C12: 193418 | D12: January 2027 | E12: 4 | F12: ='Cash Flow Version 2'!J11 -> 274000
A13: January 2027 | B13: 5 | C13: 165787 | D13: February 2027 | E13: 5 | F13: ='Cash Flow Version 2'!J12 -> 205500
A14: February 2027 | B14: 6 | C14: 110525 | D14: March 2027 | E14: 6 | F14: ='Cash Flow Version 2'!J13 -> 137000
A15: March 2027 | B15: 7 | C15: 165787 | D15: April 2027 | E15: 7 | F15: ='Cash Flow Version 2'!J14 -> 205500
A16: April 2027 | B16: 8 | C16: 193418 | D16: May 2027 | E16: 8 | F16: ='Cash Flow Version 2'!J15 -> 239750
A17: May 2027 | B17: 9 | C17: 193418 | D17: June 2027 | E17: 9 | F17: ='Cash Flow Version 2'!J16 -> 239750
A18: June 2027 | B18: 10 | C18: 193418 | D18: July 2027 | E18: 10 | F18: ='Cash Flow Version 2'!J17 -> 239750
A19: July 2027 | B19: 11 | C19: 110525 | D19: August 2027 | E19: 11 | F19: ='Cash Flow Version 2'!J18 -> 137000
A20: August 2027 | B20: 12 | C20: 110525 | D20: September 2027 | E20: 12 | F20: ='Cash Flow Version 2'!J19 -> 137000
A21: September 2027 | B21: 13 | C21: 138156 | D21: October 2027 | E21: 13 | F21: ='Cash Flow Version 2'!J20 -> 171250
... A26: February 2028 | B26: 18 | C26: 248680 | D26: March 2028 | E26: 18 | F26: ='Cash Flow Version 2'!J25 -> 102750
D27: April 2028 | E27: 19 | F27: ='Cash Flow Version 2'!J26 -> 239750
B28: less deposit | C28: -190000 | E28: less deposit | F28: ='Cash Flow Version 2'!J27 -> -200000
B29: TOTAL SUM (HOUSE ONLY) | C29: =SUM(C8:C28) -> 2763120 | E29: TOTAL SUM (HOUSE ONLY) | F29: =SUM(F8:F28) -> 3425000

Sheet DIV 1 GC
A1: 01.000 | B1: GENERAL CONDITIONS
A3: 1.12 | B3: Superintendent
D5: PROJECT DURATION - MONTHS | E5: APPROX. HOURS/DAY | F5: HOURS/WEEK | G5: RATE/HOUR | H5: COST/WEEK | I5: PROJECT DURATION - WEEKS | J5: TOTAL
C6: minimal supervision at start 3 wks | D6: 16 | E6: 3 | F6: 15 | G6: 85 | H6: =G6*F6 -> 1275 | I6: 55 | J6: =I6*H6 -> 70125
A8: 1.17 | B8: Travel/Pickup/Deliveries
B10: Rates updated March 2026 | I10: TOTAL | J10: =SUM(J12:J12) -> 3000
E12: Labor | G12: 50 | H12: 60 | I12: HR | J12: =G12*H12 -> 3000
A14: 1.205 | B14: MUD Fees
B16: Rates updated March 2026 (based on Schachne) | F16: TOTAL | G16: =SUM(G18:G20) -> 4350
B18: 1" Capital Facilities Charge (Impact Fee) | E18: 1 | F18: 3200 | G18: =F18*E18 -> 3200
B19: 1" Meter Install | E19: 1 | F19: 500 | G19: =F19*E19 -> 500
B20: Water Tap | E20: 1 | F20: 650 | G20: =F20*E20 -> 650
A22: 1.214 | B22: Bldg. Permit
B24: Rates updated March 2026 | I24: TOTAL | J24: 0
B26: City of Omaha
B27: https://permits.cityofomaha.org/fees
B28: $1.00-$2,000 | D28: 41 | H28: 0 | I28: 41 | J28: =I28*H28 -> 0
B30: $2,000-$25,000 | D30: $41.00 for first $2,000, plus $9.53 for each additional $1,000 | H30: 0 | I30: 41 | J30: =I30*H30 -> 0
H31: 0 | I31: 9.53 | J31: =I31*H31 -> 0
B33: $25,001-$50,000 | D33: $260.19 for first $25,000, plus $6.44 for each additional $1,000 | H33: 0 | I33: 260.19 | J33: =I33*H33 -> 0
H34: 0 | I34: 6.44 | J34: =I34*H34 -> 0
B36: $50,001-$100,000 | D36: $421.19 for first $50,000, plus $3.19 for each additional $1,000 | H36: 0 | I36: 421.19 | J36: =I36*H36 -> 0
H37: 0 | I37: 3.19 | J37: =I37*H37 -> 0
B39: $100,001-$500,000 | D39: $580.69 for first $100,000, plus $2.78 for each additional $1,000 | H39: 0 | I39: 580.69 | J39: =I39*H39 -> 0
H40: 0 | I40: 2.78 | J40: =I40*H40 -> 0
B42: $500,001-$1,000,000 | D42: $1,692.69 for first $500,000, plus $2.37 for each additional $1,000 | H42: 0 | I42: 1692.69 | J42: =I42*H42 -> 0
H43: 0 | I43: 2.37 | J43: =I43*H43 -> 0
B45: $1,000,001 and up | D45: $2877.69 for first $1,000,000, plus $1.96 for each additional $1,000 | H45: 0 | I45: 1000000 | J45: =I45*H45 -> 0
H46: 0 | I46: 1.96 | J46: =I46*H46 -> 0
B48: City of Blair
B49: https://www.blairne.gov/DocumentCenter/View/52/Building-Permit-and-Zoning-Fees-PDF
B50: Finished SF (not including finished basement) | E50: 0 | F50: * | G50: 102 | H50: =G50*E50 -> 0
B51: Finished Basement SF | E51: 0 | F51: * | G51: 62 | H51: =G51*E51 -> 0
B52: Unfinished Basement SF | E52: 0 | F52: * | G52: 32 | H52: =G52*E52 -> 0
B53: Garage SF | E53: 0 | F53: * | G53: 30 | H53: =G53*E53 -> 0
H54: =SUM(H50:H53) -> 0
G55: Multiply by .006 | H55: 0.006
G56: Total | H56: =H54*H55 -> 0
A58: 1.23 | B58: Builders Risk
I60: TOTAL | J60: =SUM(J62:J63) -> 0
...

Sheet DIV 2 EXIST. COND.
A1: 02.000 | B1: EXISTING CONDITIONS
A3: 2.01 | B3: Demolition
E5: Company | F5: Company | G5: Company | H5: Company
A6: Base Bid | E6: 0 | F6: 0 | G6: 0 | H6: 0
A7: 1
A8: 2
A9: 3
A10: 4
A11: 5
A12: 6
A13: 7
A14: 8
A15: 9
A16: 10
D17: TOTAL | E17: =SUM(E6:E16) -> 0 | F17: =SUM(F6:F16) -> 0 | G17: =SUM(G6:G16) -> 0 | H17: =SUM(H6:H16) -> 0

Sheet DIV 3 CONCRETE
A1: 03.000 | B1: CONCRETE
A3: 3.3 | B3: Footings/Foundations
E5: Company | F5: Company | G5: Company | H5: Company
A6: Base Bid | E6: 0 | F6: 0 | G6: 0 | H6: 0
A7: 1
A8: 2
A9: 3
A10: 4
A11: 5
A12: 6
A13: 7
A14: 8
A15: 9
A16: 10
D17: TOTAL | E17: =SUM(E6:E16) -> 0 | F17: =SUM(F6:F16) -> 0 | G17: =SUM(G6:G16) -> 0 | H17: =SUM(H6:H16) -> 0
A19: 3.32 | B19: Interior Concrete Flatwork
E21: Company | F21: Company | G21: Company | H21: Company
A22: Base Bid | E22: 0 | F22: 0 | G22: 0 | H22: 0
A23: 1
A24: 2
A25: 3
A26: 4
A27: 5
A28: 6
A29: 7
A30: 8
A31: 9
A32: 10
D33: TOTAL | E33: =SUM(E22:E32) -> 0 | F33: =SUM(F22:F32) -> 0 | G33: =SUM(G22:G32) -> 0 | H33: =SUM(H22:H32) -> 0
A35: Unit Rate Estimate - rates updated March of 2026
A36: Lower Level Slab | C36: 0 | D36: sf
A37: Garage Slab | C37: 0 | D37: sf
C38: =SUM(C36:C37) -> 0 | D38: sf
A40: MATERIAL
A41: Poly (LL & GARAGE SLAB SF x 1.15 = sf) | E41: 0 | F41: 0.075 | G41: SF | H41: =E41*F41 -> 0
A42: Lower Level Slab Granular (LL SF x .33ft x 1.25 / 18 = tons) | E42: 0 | F42: 22 | G42: TON | H42: =E42*F42 -> 0
A43: Garage Slab Granular (GARAGE SF x .33ft x 1.25 / 18 = tons) | E43: 0 | F43: 22 | G43: TON | H43: =E43*F43 -> 0
A44: Additive (Xypex for water impermeable) | E44: 0 | F44: 131.85 | G44: BOX | H44: =E44*F44 -> 0
A45: Expansion Joints at Walls | D45: ls | E45: 0 | F45: 125 | G45: EA | H45: =E45*F45 -> 0
A47: SUBCONTRACTOR
...

Sheet DIV 4 MASONRY
A1: 04.000 | B1: MASONRY
A3: 4.21 | B3: Brick / Precast Sills & Caps
E5: Company | F5: Company | G5: Company | H5: Company
A6: Base Bid | E6: 0 | F6: 0 | G6: 0 | H6: 0
A7: 1
A8: 2
A9: 3
A10: 4
A11: 5
A12: 6
A13: 7
A14: 8
A15: 9
A16: 10
D17: TOTAL | E17: =SUM(E6:E16) -> 0 | F17: =SUM(F6:F16) -> 0 | G17: =SUM(G6:G16) -> 0 | H17: =SUM(H6:H16) -> 0
A19: OLD CAROLINA TYRON HMOS | I19: WILLIAMSBURG CHERRY OR WELLINGTON
A20: Unit Rate Estimate - rates updated March of 2026 | I20: Unit Rate Estimate - rates updated March of 2026
A21: Brick (Modular) | C21: 1600 | D21: SF | E21: 4.5 | F21: =C21*E21 -> 7200 | G21: brick ea | I21: Brick (Modular) | K21: 1600 | L21: SF | M21: 4.5 | N21: =K21*M21 -> 7200 | O21: brick ea
A22: Soldiers/Rowblocks | C22: =175+100 -> 275 | D22: LF | E22: 3.5 | F22: =C22*E22 -> 962.5 | G22: brick ea | I22: Soldiers/Rowblocks | K22: =175+100 -> 275 | L22: LF | M22: 3.5 | N22: =K22*M22 -> 962.5 | O22: brick ea
A23: Approx. per 292lf | E23: RAW QTY BRICK | F23: =SUM(F21:F22) -> 8162.5 | G23: brick ea | I23: Approx. per 292lf | M23: RAW QTY BRICK | N23: =SUM(N21:N22) -> 8162.5 | O23: brick ea
E24: 12% WASTE FACTOR | F24: =F23*0.12 -> 979.5 | G24: brick ea | M24: 12% WASTE FACTOR | N24: =N23*0.12 -> 979.5 | O24: brick ea
E25: TOTAL | F25: =SUM(F23:F24) -> 9142 | G25: brick ea | M25: TOTAL | N25: =SUM(N23:N24) -> 9142 | O25: brick ea
A27: *adjust brick/cube quantity based on brick size | E27: Qty of Full Cubes | F27: 344 | G27: brick/cube | I27: *adjust brick/cube quantity based on brick size | M27: Qty of Full Cubes | N27: 416 | O27: brick/cube
E28: TOTAL | F28: =F25/F27 -> 26.575581 | G28: total cubes | M28: TOTAL | N28: =N25/N27 -> 21.975962 | O28: total cubes
A30: Per Laura at Watkins:
A31: 125 brick/bag of masonry for this product
A32: premix mortar - 35-40 brick/bag on modular / 30-32 brick per bag oversize
A34: MATERIAL | I34: MATERIAL
A35: Brick (modular) | C35: 344brick/cube x 27 cubes | E35: 9288 | F35: 2.45 | G35: =E35*F35 -> 22755.6 | I35: Brick (modular) | K35: 416brick/cube x 22 cubes | M35: 9152 | N35: 0.53 | O35: =M35*N35 -> 4850.56
A36: Brick (solids) | E36: 0 | F36: 1.5 | G36: =E36*F36 -> 0 | I36: Brick (solids) | M36: 0 | N36: 1.5 | O36: =M36*N36 -> 0
A37: premix mortar (colored) | C37: 9288/30 + waste | E37: 325 | F37: 14.45 | G37: =E37*F37 -> 4696.25 | I37: premix mortar (colored) | K37: 9142/30 | M37: 325 | N37: 14.45 | O37: =M37*N37 -> 4696.25
A38: premix mortar (standard gray) | E38: 0 | F38: 9.5 | G38: =E38*F38 -> 0 | I38: premix mortar (standard gray) | M38: 0 | N38: 9.5 | O38: =M38*N38 -> 0
A39: Masonry Cement | C39: 7 bags/M | E39: 0 | F39: 11 | G39: =E39*F39 -> 0 | I39: Masonry Cement | K39: 7 bags/M | M39: 0 | N39: 11 | O39: =M39*N39 -> 0
A40: Portland Cement | C40: 1 bag/5 of masonry | E40: 0 | F40: 14 | G40: =E40*F40 -> 0 | I40: Portland Cement | K40: 1 bag/5 of masonry | M40: 0 | N40: 14 | O40: =M40*N40 -> 0
A41: Sand | C41: 3 to 1 by weight | E41: 0 | F41: 15 | G41: =E41*F41 -> 0 | I41: Sand | K41: 3 to 1 by weight | M41: 0 | N41: 15 | O41: =M41*N41 -> 0
A42: Weep Holes | C42: approx. every 3lf | D42: 260lf/3 | E42: 100 | F42: 0.65 | G42: =E42*F42 -> 65 | I42: Weep Holes | K42: approx. every 3lf | M42: 100 | N42: 0.65 | O42: =M42*N42 -> 65
A43: Nervastral | C43: 12"x150'/roll | D43: 260/150 | E43: 2 | F43: 90 | G43: =E43*F43 -> 180 | I43: Nervastral | K43: 12"x150'/roll | M43: 2 | N43: 90 | O43: =M43*N43 -> 180
A44: SureKlean #600 detergent | C44: 600sf/gallon | D44: 1600/600 | E44: 3 | F44: 25 | G44: =E44*F44 -> 75 | I44: SureKlean #600 detergent | K44: 600sf/gallon | L44: 1600/600 | M44: 3 | N44: 25 | O44: =M44*N44 -> 75
A45: Ties | C45: .10 ties per brick | E45: 930 | F45: 0.35 | G45: =E45*F45 -> 325.5 | I45: Ties | K45: .10 ties per brick | M45: 930 | N45: 0.35 | O45: =M45*N45 -> 325.5
A46: 1" Mortar Net | E46: 0 | F46: 2.4 | G46: =E46*F46 -> 0 | I46: 1" Mortar Net | M46: 0 | N46: 2.4 | O46: =M46*N46 -> 0
...

Sheet DIV 5 METAL
A1: 05.000 | B1: METAL
A3: 5.12 | B3: Strucutural Steel - Material
E5: Company | F5: Company | G5: Company | H5: Company
A6: Base Bid | E6: 0 | F6: 0 | G6: 0 | H6: 0
A7: 1
A8: 2
A9: 3
A10: 4
A11: 5
A12: 6
A13: 7
A14: 8
A15: 9
A16: 10
D17: TOTAL | E17: =SUM(E6:E16) -> 0 | F17: =SUM(F6:F16) -> 0 | G17: =SUM(G6:G16) -> 0 | H17: =SUM(H6:H16) -> 0
A19: 5.528 | B19: Metal Interior Railing
E21: Company | F21: Company | G21: Company | H21: Company
A22: Base Bid | E22: 0 | F22: 0 | G22: 0 | H22: 0
A23: 1
A24: 2
A25: 3
A26: 4
A27: 5
A28: 6
A29: 7
A30: 8
A31: 9
A32: 10
D33: TOTAL | E33: =SUM(E22:E32) -> 0 | F33: =SUM(F22:F32) -> 0 | G33: =SUM(G22:G32) -> 0 | H33: =SUM(H22:H32) -> 0
A35: 5.53 | B35: Exterior Deck Railing
E37: Company | F37: Company | G37: Company | H37: Company
A38: Base Bid | E38: 0 | F38: 0 | G38: 0 | H38: 0
A39: 1
A40: 2
A41: 3
A42: 4
A43: 5
A44: 6
A45: 7
A46: 8
...

Sheet DIV 6 CARPENTRY
A1: 06.000 | B1: CARPENTRY
A3: 6.11 | B3: Wood Framing
E5: Company | F5: Company | G5: Company | H5: Company
A6: Base Bid | E6: 0 | F6: 0 | G6: 0 | H6: 0
A7: 1
A8: 2
A9: 3
A10: 4
A11: 5
A12: 6
A13: 7
A14: 8
A15: 9
A16: 10
D17: TOTAL | E17: =SUM(E6:E16) -> 0 | F17: =SUM(F6:F16) -> 0 | G17: =SUM(G6:G16) -> 0 | H17: =SUM(H6:H16) -> 0
A19: 6.15 | B19: Wood Decks
E21: Company | F21: Company | G21: Company | H21: Company
A22: Base Bid | E22: 0 | F22: 0 | G22: 0 | H22: 0
A23: 1
A24: 2
A25: 3
A26: 4
A27: 5
A28: 6
A29: 7
A30: 8
A31: 9
A32: 10
D33: TOTAL | E33: =SUM(E22:E32) -> 0 | F33: =SUM(F22:F32) -> 0 | G33: =SUM(G22:G32) -> 0 | H33: =SUM(H22:H32) -> 0
A35: 6.38 | B35: Cabinetry
E37: Company | F37: Company | G37: Company | H37: Company
A38: Main Level
B39: Location | C39: ALLOWANCE | D39: *MATERIAL
B40: Location | C40: ALLOWANCE | D40: *MATERIAL
B41: Location | C41: ALLOWANCE | D41: *MATERIAL
B42: Location | C42: ALLOWANCE | D42: *MATERIAL
B43: Location | C43: ALLOWANCE | D43: *MATERIAL
B44: Location | C44: ALLOWANCE | D44: *MATERIAL
B45: Location | C45: ALLOWANCE | D45: *MATERIAL
B46: Location | C46: ALLOWANCE | D46: *MATERIAL
...

Sheet DIV 7 MOISTURE PROTECTION
A1: 07.000 | B1: MOISTURE/THERMAL PROTECTION
A3: 7.13 | B3: Waterproofing/Passive Radon/Termite Treatment
E5: Company | F5: Company | G5: Company | H5: Company
A6: Base Bid | E6: 0 | F6: 0 | G6: 0 | H6: 0
A7: 1
A8: 2
A9: 3
A10: 4
A11: 5
A12: 6
A13: 7
A14: 8
A15: 9
A16: 10
D17: TOTAL | E17: =SUM(E6:E16) -> 0 | F17: =SUM(F6:F16) -> 0 | G17: =SUM(G6:G16) -> 0 | H17: =SUM(H6:H16) -> 0
A19: 7.21 | B19: Insulation
E21: Company | F21: Company | G21: Company | H21: Company
A22: Base Bid | E22: 0 | F22: 0 | G22: 0 | H22: 0
A23: 1
A24: 2
A25: 3
A26: 4
A27: 5
A28: 6
A29: 7
A30: 8
A31: 9
A32: 10
D33: TOTAL | E33: =SUM(E22:E32) -> 0 | F33: =SUM(F22:F32) -> 0 | G33: =SUM(G22:G32) -> 0 | H33: =SUM(H22:H32) -> 0
A35: 7.25 | B35: Stucco System
E37: Company | F37: Company | G37: Company | H37: Company
A38: Base Bid | E38: 0 | F38: 0 | G38: 0 | H38: 0
A39: 1
A40: 2
A41: 3
A42: 4
A43: 5
A44: 6
A45: 7
A46: 8
...

Sheet DIV 8 OPENINGS
A1: 08.000 | B1: OPENINGS
A3: 8.14 | B3: Interior Wood Doors
E5: Company | F5: Company | G5: Company | H5: Company
A6: Base Bid | E6: 0 | F6: 0 | G6: 0 | H6: 0
A7: 1
A8: 2
A9: 3
A10: 4
A11: 5
A12: 6
A13: 7
A14: 8
A15: 9
A16: 10
D17: TOTAL | E17: =SUM(E6:E16) -> 0 | F17: =SUM(F6:F16) -> 0 | G17: =SUM(G6:G16) -> 0 | H17: =SUM(H6:H16) -> 0
A19: 8.178 | B19: Front Door
E21: Company | F21: Company | G21: Company | H21: Company
A22: Base Bid | E22: 0 | F22: 0 | G22: 0 | H22: 0
A23: 1
A24: 2
A25: 3
A26: 4
A27: 5
A28: 6
A29: 7
A30: 8
A31: 9
A32: 10
D33: TOTAL | E33: =SUM(E22:E32) -> 0 | F33: =SUM(F22:F32) -> 0 | G33: =SUM(G22:G32) -> 0 | H33: =SUM(H22:H32) -> 0
A35: 8.184 | B35: Pet Door
E37: Company | F37: Company | G37: Company | H37: Company
A38: Base Bid | E38: 0 | F38: 0 | G38: 0 | H38: 0
A39: 1
A40: 2
A41: 3
A42: 4
A43: 5
A44: 6
A45: 7
A46: 8
...

Sheet DIV 9 FINISHES
A1: 09.000 | B1: FINISHES
A3: 9.2 | B3: Drywall
E5: Company | F5: Company | G5: Company | H5: Company
A6: Base Bid | E6: 0 | F6: 0 | G6: 0 | H6: 0
A7: 1
A8: 2
A9: 3
A10: 4
A11: 5
A12: 6
A13: 7
A14: 8
A15: 9
A16: 10
D17: TOTAL | E17: =SUM(E6:E16) -> 0 | F17: =SUM(F6:F16) -> 0 | G17: =SUM(G6:G16) -> 0 | H17: =SUM(H6:H16) -> 0
A19: 9.3 | B19: Tile
B21: Floor Tile
I23: TOTAL | J23: =J25+J32+J39+J47+J54 -> 41605
B25: Kitchen | J25: =SUM(J26:J31) -> 5125
B26: raw area - 112sf + waste | E26: Tile Material | F26: ALLOWANCE | G26: 140 | H26: 12 | I26: SF | J26: =G26*H26 -> 1680
B27: say 140sf order | E27: Labor/Setting Materials | F27: ALLOWANCE | G27: 140 | H27: 22.5 | I27: SF | J27: =G27*H27 -> 3150
E28: Delivery | F28: ALLOWANCE | G28: 1 | H28: 100 | I28: EA | J28: =G28*H28 -> 100
E29: Sealer | F29: ALLOWANCE | G29: 130 | H29: 1.5 | I29: SF | J29: =G29*H29 -> 195
E30: Self Leveling | F30: ALLOWANCE | G30: 0 | H30: 5 | I30: SF | J30: =G30*H30 -> 0
B32: Laundry | J32: =SUM(J33:J38) -> 2555
B33: raw area - 62sf + waste | E33: Tile Material | F33: ALLOWANCE | G33: 80 | H33: 10 | I33: SF | J33: =G33*H33 -> 800
B34: say 80sf order | E34: Labor/Setting Materials | F34: ALLOWANCE | G34: 80 | H34: 21 | I34: SF | J34: =G34*H34 -> 1680
E35: Delivery | F35: ALLOWANCE | G35: 1 | H35: 75 | I35: EA | J35: =G35*H35 -> 75
E36: Sealer | F36: ALLOWANCE | G36: 0 | H36: 1.5 | I36: SF | J36: =G36*H36 -> 0
E37: Self Leveling | F37: ALLOWANCE | G37: 0 | H37: 5 | I37: SF | J37: =G37*H37 -> 0
B39: Master Bath | J39: =SUM(J40:J46) -> 7330
B40: raw area - 103sf + waste | E40: Tile Material | F40: ALLOWANCE | G40: 130 | H40: 15 | I40: SF | J40: =G40*H40 -> 1950
B41: say 130sf order | E41: Labor/Setting Materials | F41: ALLOWANCE | G41: 120 | H41: 22.5 | I41: SF | J41: =G41*H41 -> 2700
E42: Delivery | F42: ALLOWANCE | G42: 1 | H42: 100 | I42: EA | J42: =G42*H42 -> 100
E43: Sealer | F43: ALLOWANCE | G43: 120 | H43: 1.5 | I43: SF | J43: =G43*H43 -> 180
E44: Self Leveling | F44: ALLOWANCE | G44: 0 | H44: 5 | I44: SF | J44: =G44*H44 -> 0
E45: In-Floor Heat | F45: ALLOWANCE | G45: 120 | H45: 20 | I45: SF | J45: =G45*H45 -> 2400
B47: Lower Level Billiards, Hall, Bath 2, Storage Closet | J47: =SUM(J48:J53) -> 24540
B48: raw area - 653sf + waste | E48: Tile Material | F48: ALLOWANCE | G48: 760 | H48: 10 | I48: SF | J48: =G48*H48 -> 7600
B49: say 760sf | E49: Labor/Setting Materials | F49: ALLOWANCE | G49: 720 | H49: 21 | I49: SF | J49: =G49*H49 -> 15120
...

Sheet DIV 10 SPECIALTIES
A1: 10.000 | B1: SPECIALTIES
A3: 10.05 | B3: Finish Hardware Allowance
B5: Cabinet Hardware
B6: POWDER BATH | D6: DOORS/DRAWERS | F6: 2 | G6: 15 | H6: =F6*G6 -> 30
B8: SERVICE ENTRY | D8: DOORS/DRAWERS | F8: 10 | G8: 12 | H8: =F8*G8 -> 120
D9: HOOKS | F9: 6 | G9: 35 | H9: =F9*G9 -> 210
B11: PRIMARY BATH | D11: DOORS/DRAWERS | F11: 25 | G11: 15 | H11: =F11*G11 -> 375
B13: PRIMARY WARDROBE | D13: DOORS/DRAWERS | F13: 24 | G13: 12 | H13: =F13*G13 -> 288
B15: GATHERING ROOM | D15: DOORS/DRAWERS | F15: 6 | G15: 15 | H15: =F15*G15 -> 90
B17: KITCHEN ISLAND | D17: DOORS/DRAWERS | F17: 22 | G17: 18 | H17: =F17*G17 -> 396
D18: APPLIANCE PULLS | F18: 2 | G18: 350 | H18: =F18*G18 -> 700
B20: KITCHEN | D20: DOORS/DRAWERS | F20: 34 | G20: 18 | H20: =F20*G20 -> 612
D21: APPLIANCE PULLS | F21: 3 | G21: 350 | H21: =F21*G21 -> 1050
B23: PANTRY | D23: OPEN SHELVES
B25: LOUNGE | D25: DOORS/DRAWERS | F25: 15 | G25: 18 | H25: =G25*F25 -> 270
D26: APPLIANCE PULLS | F26: 2 | G26: 200 | H26: =G26*F26 -> 400
B28: LAUNDRY | D28: DOORS/DRAWERS | F28: 25 | G28: 10 | H28: =F28*G28 -> 250
B30: OFFICE | D30: DOORS/DRAWERS | F30: 20 | G30: 12 | H30: =F30*G30 -> 240
B32: BATHROOM 2 | D32: DOORS/DRAWERS | F32: 7 | G32: 10 | H32: =G32*F32 -> 70
B34: BATHROOM 3 | D34: DOORS/DRAWERS | F34: 10 | G34: 10 | H34: =G34*F34 -> 100
B36: LL BAR | D36: DOORS/DRAWERS | F36: 23 | G36: 12 | H36: =G36*F36 -> 276
B38: LL FAMILY ROOM | D38: DOORS/DRAWERS | F38: 6 | G38: 12 | H38: =G38*F38 -> 72
B40: GARAGE | D40: DOORS/DRAWERS | F40: 11 | G40: 10 | H40: =G40*F40 -> 110
B42: OUTDOOR | D42: DOORS/DRAWERS | F42: 4 | G42: 10 | H42: =G42*F42 -> 40
G43: SUBTOTAL | H43: =SUM(H6:H42) -> 5699
G44: FREIGHT | H44: 100
G45: 7% TAX | H45: =(H43+H44)*0.07 -> 405.93
G46: TOTAL | H46: =SUM(H43:H45) -> 6204.93
B48: Door Hardware
B49: LOCATION | F49: QTY | G49: UNIT COST | H49: SUBTOTAL
B50: Lower Level
B51: DOOR LEVERS (PASSAGE/PRIVACY) | E51: Emtek | F51: 11 | G51: 190 | H51: =F51*G51 -> 2090
B52: DUMMIES | E52: Emtek | F52: 0 | G52: 185 | H52: =F52*G52 -> 0
B53: POCKET DOOR | E53: Emtek | F53: 0 | G53: 275 | H53: =F53*G53 -> 0
B54: 3 1/2" HINGES - per pair | F54: 17 | G54: 14 | H54: =F54*G54 -> 238
B55: 4" HINGES - per pair | F55: 0 | G55: 18 | H55: =F55*G55 -> 0
B56: HINGE DOOR STOP | F56: 6 | G56: 10 | H56: =F56*G56 -> 60
B57: BASE DOOR STOP | F57: 8 | G57: 15 | H57: =F57*G57 -> 120
B59: Main Level
B60: FRONT DOOR HARDWARE | F60: 1 | G60: 650 | H60: =F60*G60 -> 650
...

Sheet DIV 11 EQUIPMENT
A1: 11.000 | B1: EQUIPMENT
A3: 11.302 | B3: Appliances Allowance
E5: Company | F5: Company | G5: Company | H5: Company
A6: Base Bid | E6: 0 | F6: 0 | G6: 0 | H6: 0
A7: 1
A8: 2
A9: 3
A10: 4
A11: 5
A12: 6
A13: 7
A14: 8
A15: 9
A16: 10
D17: TOTAL | E17: =SUM(E6:E16) -> 0 | F17: =SUM(F6:F16) -> 0 | G17: =SUM(G6:G16) -> 0 | H17: =SUM(H6:H16) -> 0
A19: 11.52 | B19: TV's Allowance
E21: Company | F21: Company | G21: Company | H21: Company
A22: Base Bid | E22: 0 | F22: 0 | G22: 0 | H22: 0
A23: 1
A24: 2
A25: 3
A26: 4
A27: 5
A28: 6
A29: 7
A30: 8
A31: 9
A32: 10
D33: TOTAL | E33: =SUM(E22:E32) -> 0 | F33: =SUM(F22:F32) -> 0 | G33: =SUM(G22:G32) -> 0 | H33: =SUM(H22:H32) -> 0
A35: 11.66 | B35: Athletic Equipment
E37: Company | F37: Company | G37: Company | H37: Company
A38: Base Bid | E38: 0 | F38: 0 | G38: 0 | H38: 0
A39: 1
A40: 2
A41: 3
A42: 4
A43: 5
A44: 6
A45: 7
A46: 8
...

Sheet DIV 12 FURNISHINGS
A1: 12.000 | B1: FURNISHINGS
A3: 12.17 | B3: Art Glass
E5: Company | F5: Company | G5: Company | H5: Company
A6: Base Bid | E6: 0 | F6: 0 | G6: 0 | H6: 0
A7: 1
A8: 2
A9: 3
A10: 4
A11: 5
A12: 6
A13: 7
A14: 8
A15: 9
A16: 10
D17: TOTAL | E17: =SUM(E6:E16) -> 0 | F17: =SUM(F6:F16) -> 0 | G17: =SUM(G6:G16) -> 0 | H17: =SUM(H6:H16) -> 0
A19: 12.2 | B19: Window Treatments
E21: Company | F21: Company | G21: Company | H21: Company
A22: Base Bid | E22: 0 | F22: 0 | G22: 0 | H22: 0
A23: 1
A24: 2
A25: 3
A26: 4
A27: 5
A28: 6
A29: 7
A30: 8
A31: 9
A32: 10
D33: TOTAL | E33: =SUM(E22:E32) -> 0 | F33: =SUM(F22:F32) -> 0 | G33: =SUM(G22:G32) -> 0 | H33: =SUM(H22:H32) -> 0
A35: 12.25 | B35: Motorized Shades
E37: Company | F37: Company | G37: Company | H37: Company
A38: Base Bid | E38: 0 | F38: 0 | G38: 0 | H38: 0
A39: 1
A40: 2
A41: 3
A42: 4
A43: 5
A44: 6
A45: 7
A46: 8
...

Sheet DIV 13 SPECIAL CONST.
A1: 13.000 | B1: SPECIAL CONSTRUCTION
A3: 13.112 | B3: Swimming Pool
E5: Company | F5: Company | G5: Company | H5: Company
A6: Base Bid | E6: 0 | F6: 0 | G6: 0 | H6: 0
A7: 1
A8: 2
A9: 3
A10: 4
A11: 5
A12: 6
A13: 7
A14: 8
A15: 9
A16: 10
D17: TOTAL | E17: =SUM(E6:E16) -> 0 | F17: =SUM(F6:F16) -> 0 | G17: =SUM(G6:G16) -> 0 | H17: =SUM(H6:H16) -> 0
A19: 13.174 | B19: Sauna
E21: Company | F21: Company | G21: Company | H21: Company
A22: Base Bid | E22: 0 | F22: 0 | G22: 0 | H22: 0
A23: 1
A24: 2
A25: 3
A26: 4
A27: 5
A28: 6
A29: 7
A30: 8
A31: 9
A32: 10
D33: TOTAL | E33: =SUM(E22:E32) -> 0 | F33: =SUM(F22:F32) -> 0 | G33: =SUM(G22:G32) -> 0 | H33: =SUM(H22:H32) -> 0
A35: 13.26 | B35: Storm Shelter Room(s)
E37: Company | F37: Company | G37: Company | H37: Company
A38: Base Bid | E38: 0 | F38: 0 | G38: 0 | H38: 0
A39: 1
A40: 2
A41: 3
A42: 4
A43: 5
A44: 6
A45: 7
A46: 8
...

Sheet DIV 14 CONVEYING SYSTEMS
A1: 14.000 | B1: CONVEYING SYSTEMS
A3: 14.05 | B3: Elevators
E5: Company | F5: Company | G5: Company | H5: Company
A6: Base Bid | E6: 0 | F6: 0 | G6: 0 | H6: 0
A7: 1
A8: 2
A9: 3
A10: 4
A11: 5
A12: 6
A13: 7
A14: 8
A15: 9
A16: 10
D17: TOTAL | E17: =SUM(E6:E16) -> 0 | F17: =SUM(F6:F16) -> 0 | G17: =SUM(G6:G16) -> 0 | H17: =SUM(H6:H16) -> 0

Sheet DIV 21 FIRE SUPRESSION
A1: 21.000 | B1: FIRE SUPPRESSION
A3: 21.05 | B3: Fire Suppression
E5: Company | F5: Company | G5: Company | H5: Company
A6: Base Bid | E6: 0 | F6: 0 | G6: 0 | H6: 0
A7: 1
A8: 2
A9: 3
A10: 4
A11: 5
A12: 6
A13: 7
A14: 8
A15: 9
A16: 10
D17: TOTAL | E17: =SUM(E6:E16) -> 0 | F17: =SUM(F6:F16) -> 0 | G17: =SUM(G6:G16) -> 0 | H17: =SUM(H6:H16) -> 0

Sheet DIV 22-23 PLUM-HVAC
A1: 22.000 | B1: PLUMBING
A3: 22.05 | B3: Plumbing
E5: Company | F5: Company | G5: Company | H5: Company
A6: Base Bid | E6: 0 | F6: 0 | G6: 0 | H6: 0
A7: 1
A8: 2
A9: 3
A10: 4
A11: 5
A12: 6
A13: 7
A14: 8
A15: 9
A16: 10
D17: TOTAL | E17: =SUM(E6:E16) -> 0 | F17: =SUM(F6:F16) -> 0 | G17: =SUM(G6:G16) -> 0 | H17: =SUM(H6:H16) -> 0
A19: 22.322 | B19: Water Filtration System
E21: Company | F21: Company | G21: Company | H21: Company
A22: Base Bid | E22: 0 | F22: 0 | G22: 0 | H22: 0
A23: 1
A24: 2
A25: 3
A26: 4
A27: 5
A28: 6
A29: 7
A30: 8
A31: 9
A32: 10
D33: TOTAL | E33: =SUM(E22:E32) -> 0 | F33: =SUM(F22:F32) -> 0 | G33: =SUM(G22:G32) -> 0 | H33: =SUM(H22:H32) -> 0
A35: 22.4 | B35: Plumbing Fixtures Allowance
D37: QUANITITY | E37: UNIT COST | F37: SUBTOTAL
B38: BATHROOM
B39: SINK SS | D39: 0 | E39: 100 | F39: =D39*E39 -> 0
B40: FAUCET | D40: 0 | E40: 250 | F40: =D40*E40 -> 0
B41: TOILET | D41: 0 | E41: 400 | F41: =D41*E41 -> 0
B42: SEAT/TRIP LEVER | D42: 0 | E42: 115 | F42: =D42*E42 -> 0
B43: SHOWER VALVE/TRIM | D43: 0 | E43: 450 | F43: =D43*E43 -> 0
B44: FIBERGLASS SHOWER BASE | D44: 0 | E44: 650 | F44: =D44*E44 -> 0
B46: BAR
B47: SINK | D47: 0 | E47: 450 | F47: =D47*E47 -> 0
...

Sheet DIV 26-28 ELEC. - LV
A1: 26.000 | B1: ELECTRICAL
A3: 26.05 | B3: Electrical Service & Wiring
E5: Company | F5: Company | G5: Company | H5: Company
A6: Base Bid | E6: 0 | F6: 0 | G6: 0 | H6: 0
A7: 1
A8: 2
A9: 3
A10: 4
A11: 5
A12: 6
A13: 7
A14: 8
A15: 9
A16: 10
D17: TOTAL | E17: =SUM(E6:E16) -> 0 | F17: =SUM(F6:F16) -> 0 | G17: =SUM(G6:G16) -> 0 | H17: =SUM(H6:H16) -> 0
A19: 26.41 | B19: Lightning Protection
E21: Company | F21: Company | G21: Company | H21: Company
A22: Base Bid | E22: 0 | F22: 0 | G22: 0 | H22: 0
A23: 1
A24: 2
A25: 3
A26: 4
A27: 5
A28: 6
A29: 7
A30: 8
A31: 9
A32: 10
D33: TOTAL | E33: =SUM(E22:E32) -> 0 | F33: =SUM(F22:F32) -> 0 | G33: =SUM(G22:G32) -> 0 | H33: =SUM(H22:H32) -> 0
A35: 26.505 | B35: Light Fixtures Allowance
B37: *ALLOWANCE UNIT COSTS INCLUDE ALL BULBS
B38: LOCATION | D38: TYPE | F38: QTY | G38: UNIT PRICE | H38: SUBTOTAL
B39: Main Level
B40: FOYER | D40: CEILING MOUNT | F40: 9 | G40: 550 | H40: =F40*G40 -> 4950
B41: FOYER/STAIR | D41: ART LIGHT | F41: 1 | G41: 675 | H41: =F41*G41 -> 675
B42: OFFICE | D42: ART LIGHT | F42: 3 | G42: 675 | H42: =F42*G42 -> 2025
B43: POWDER BATH | D43: WALL MOUNT | F43: 1 | G43: 1200 | H43: =F43*G43 -> 1200
B44: POWDER BATH | D44: CEILING MOUNT | F44: 1 | G44: 2500 | H44: =F44*G44 -> 2500
B45: KITCHEN | D45: PENDANTS | F45: 3 | G45: 1200 | H45: =F45*G45 -> 3600
B46: KITCHEN | D46: WALL MOUNT | F46: 2 | G46: 1200 | H46: =F46*G46 -> 2400
...

Sheet DIV 31-32 EARTH-SITE
A1: 31.000 | B1: EARTHWORK
A3: 31.218 | B3: Site Demolition
E5: Company | F5: Company | G5: Company | H5: Company
A6: Base Bid | E6: 0 | F6: 0 | G6: 0 | H6: 0
A7: 1
A8: 2
A9: 3
A10: 4
A11: 5
A12: 6
A13: 7
A14: 8
A15: 9
A16: 10
D17: TOTAL | E17: =SUM(E6:E16) -> 0 | F17: =SUM(F6:F16) -> 0 | G17: =SUM(G6:G16) -> 0 | H17: =SUM(H6:H16) -> 0
A19: 31.23 | B19: Excavation/Fill/Grading/Silt Fence
E21: Company | F21: Company | G21: Company | H21: Company
A22: Base Bid | E22: 0 | F22: 0 | G22: 0 | H22: 0
A23: 1
A24: 2
A25: 3
A26: 4
A27: 5
A28: 6
A29: 7
A30: 8
A31: 9
A32: 10
D33: TOTAL | E33: =SUM(E22:E32) -> 0 | F33: =SUM(F22:F32) -> 0 | G33: =SUM(G22:G32) -> 0 | H33: =SUM(H22:H32) -> 0
A35: 31.26 | B35: Surveying
E37: Company | F37: Company | G37: Company | H37: Company
A38: Base Bid | E38: 0 | F38: 0 | G38: 0 | H38: 0
A39: 1
A40: 2
A41: 3
A42: 4
A43: 5
A44: 6
A45: 7
A46: 8
...

Sheet DIV 33 UTILITES
A1: 33.000 | B1: UTILITIES
A3: 33.02 | B3: Sewer / Water Utilities
E5: Company | F5: Company | G5: Company | H5: Company
A6: Base Bid | E6: 0 | F6: 0 | G6: 0 | H6: 0
A7: 1
A8: 2
A9: 3
A10: 4
A11: 5
A12: 6
A13: 7
A14: 8
A15: 9
A16: 10
D17: TOTAL | E17: =SUM(E6:E16) -> 0 | F17: =SUM(F6:F16) -> 0 | G17: =SUM(G6:G16) -> 0 | H17: =SUM(H6:H16) -> 0
A19: 33.462 | B19: Underground Buried Drainage
E21: Company | F21: Company | G21: Company | H21: Company
A22: Base Bid | E22: 0 | F22: 0 | G22: 0 | H22: 0
A23: 1
A24: 2
A25: 3
A26: 4
A27: 5
A28: 6
A29: 7
A30: 8
A31: 9
A32: 10
D33: TOTAL | E33: =SUM(E22:E32) -> 0 | F33: =SUM(F22:F32) -> 0 | G33: =SUM(G22:G32) -> 0 | H33: =SUM(H22:H32) -> 0
